BEGIN:VCALENDAR
VERSION:2.0
PRODID:-//ChamberMaster//Event Calendar 2.0//EN
METHOD:PUBLISH
X-PUBLISHED-TTL:P3D
REFRESH-INTERVAL:P3D
CALSCALE:GREGORIAN
BEGIN:VEVENT
DTSTART;VALUE=DATE:20160501
DTEND;VALUE=DATE:20160602
TRANSP:TRANSPARENT
X-MICROSOFT-CDO-ALLDAYEVENT:TRUE
SUMMARY:May GOTM: KAHR CT9
DESCRIPTION:May Gun of the Month - KAHR CT9\n\nMay 1-30\, 2016\, on in stock items only. \n\nEnter in store to win a FREE KAHR CT9!\n\n*FREE rental fee on KAHR CT9 all month long! Try it before you buy it!\n\n*Ammo not included.\n\n\n\nMay 8    Mother's Day Special - Lane Rental Free for Moms\n\nMay 21   Armed Forces Day - Lane Rental Free for Military\n\nMay 1-31     Share to win promo - Enter twice for the Gun of the Month  \n\n \n\nJoin Our Mailing List to find out how to Win A FREE Gun Every Month! \n\n Only at Bill's Gun Shop & Range Locations!\n\n Review of the Kahr CT9  by the Average Joe\n\n "CEO Justin Moon founded Kahr Arms in 1995.  Moon had obtained a concealed carry license at the age of 18\, but at that time he couldn't find any quality made compact and sub-compact handguns that met his needs..."
X-ALT-DESC;FMTTYPE=text/html:<p><span style="font-family:verdana\,geneva\; font-size:12pt"><strong>May Gun of the Month - KAHR CT9</strong></span></p>\n\n<p><span style="font-family:verdana\,geneva"><span style="font-size:12pt">May 1-30\, 2016\, on in stock items only. </span></span></p>\n\n<p><span style="font-family:verdana\,geneva"><span style="font-size:12pt">Enter in store to win a FREE KAHR CT9!</span></span></p>\n\n<p><span style="font-family:verdana\,geneva\; font-size:12pt">*FREE rental fee on KAHR CT9 all month long! Try it before you buy it!</span></p>\n\n<p><span style="font-family:verdana\,geneva\; font-size:12pt"><span style="font-family:verdana\,geneva\; font-size:12pt">*Ammo not included.</span></span><br />\n<br />\n<span style="font-family:verdana\,geneva"><span style="font-size:12pt"><span style="font-family:verdana\,geneva"><span style="font-size:12pt"><strong><span style="font-family:verdana\,geneva\; font-size:12pt"><span style="font-family:verdana\,geneva\; font-size:12pt">May 8</span></span></strong></span></span></span></span><span style="font-family:verdana\,geneva"><span style="font-size:12pt"><strong><span style="font-family:verdana\,geneva\; font-size:12pt"><span style="font-family:verdana\,geneva\; font-size:12pt"><span style="font-family:verdana\,geneva"><span style="font-size:12pt"><span style="font-family:verdana\,geneva\; font-size:12pt"><span style="font-family:verdana\,geneva\; font-size:12pt"> </span></span></span></span></span></span></strong><span style="font-family:verdana\,geneva"><span style="font-size:12pt"><strong><span style="font-family:verdana\,geneva\; font-size:12pt"><span style="font-family:verdana\,geneva\; font-size:12pt"> &middot\; </span></span><span style="font-family:verdana\,geneva\; font-size:12pt"><span style="font-family:verdana\,geneva\; font-size:12pt">Mother&#39\;s Day Special - Lane Rental Free for Moms</span></span></strong></span></span></span></span></p>\n\n<p><span style="font-family:verdana\,geneva"><span style="font-size:12pt"><span style="font-family:verdana\,geneva"><span style="font-size:12pt"><span style="font-family:verdana\,geneva"><span style="font-size:12pt"><strong><span style="font-family:verdana\,geneva\; font-size:12pt"><span style="font-family:verdana\,geneva\; font-size:12pt">May 21&nbsp\;<span style="font-family:verdana\,geneva"><span style="font-size:12pt"><span style="font-family:verdana\,geneva"><span style="font-size:12pt"><span style="font-family:verdana\,geneva"><span style="font-size:12pt"><span style="font-family:verdana\,geneva\; font-size:12pt"><span style="font-family:verdana\,geneva\; font-size:12pt">&middot\;</span></span><span style="font-family:verdana\,geneva\; font-size:12pt"><span style="font-family:verdana\,geneva\; font-size:12pt"> Armed Forces Day - Lane Rental Free for Military</span></span></span></span></span></span></span></span></span></span></strong></span></span></span></span></span></span></p>\n\n<p><span style="font-family:verdana\,geneva\; font-size:12pt"><span style="font-family:verdana\,geneva"><span style="font-size:12pt"><span style="font-family:verdana\,geneva"><span style="font-size:12pt"><span style="font-family:verdana\,geneva"><span style="font-size:12pt"><strong><span style="font-family:verdana\,geneva\; font-size:12pt"><span style="font-family:verdana\,geneva\; font-size:12pt"><span style="font-family:verdana\,geneva"><span style="font-size:12pt"><span style="font-family:verdana\,geneva"><span style="font-size:12pt"><span style="font-family:verdana\,geneva"><span style="font-size:12pt"><span style="font-family:verdana\,geneva\; font-size:12pt"><span style="font-family:verdana\,geneva\; font-size:12pt">May 1-31<span style="font-family:verdana\,geneva"><span style="font-size:12pt"><span style="font-family:verdana\,geneva"><span style="font-size:12pt"><span style="font-family:verdana\,geneva"><span style="font-size:12pt"><strong><span style="font-family:verdana\,geneva\; font-size:12pt"><span style="font-family:verdana\,geneva\; font-size:12pt"> <span style="font-family:verdana\,geneva"><span style="font-size:12pt"><span style="font-family:verdana\,geneva"><span style="font-size:12pt"><span style="font-family:verdana\,geneva\; font-size:12pt"><span style="font-family:verdana\,geneva\; font-size:12pt"><span style="font-family:verdana\,geneva"><span style="font-size:12pt"><span style="font-family:verdana\,geneva\; font-size:12pt"><span style="font-family:verdana\,geneva\; font-size:12pt"> </span></span></span></span></span></span><span style="font-family:verdana\,geneva"><span style="font-size:12pt"><span style="font-family:verdana\,geneva\; font-size:12pt"><span style="font-family:verdana\,geneva\; font-size:12pt"> &middot\;</span></span><span style="font-family:verdana\,geneva\; font-size:12pt"><span style="font-family:verdana\,geneva\; font-size:12pt"> </span></span></span></span></span></span></span></span></span></span></strong></span></span></span></span></span></span>Share to win promo - Enter twice for the Gun of the Month &nbsp\;</span></span></span></span></span></span></span></span></span></span></strong></span></span></span></span></span></span><br />\n<u>&nbsp\;</u></span></p>\n\n<p><span style="font-family:verdana\,geneva\; font-size:12pt">Join Our Mailing List to find out how to <strong><a href="https://www.billsgs.com/join-our-mailing-list" target="_blank" title="Join Our Mailing List!">Win A FREE Gun Every Month</a></strong>! </span></p>\n\n<p><span style="font-family:verdana\,geneva\; font-size:12pt">&nbsp\;Only at <a href="https://www.billsgs.com/billsgs-locations" target="_self" title="Bill's Gun Shop &amp\; Range Locations">Bill&#39\;s Gun Shop &amp\; Range Locations</a>!</span></p>\n\n<p><span style="font-family:verdana\,geneva\; font-size:12pt">&nbsp\;<strong>Review of the Kahr CT9<span style="font-family:verdana\,geneva\; font-size:12pt"><strong><strong><strong>&nbsp\;&nbsp\;</strong></strong></strong></span>by <em>the Average Joe</em></strong></span></p>\n\n<p><span style="font-family:verdana\,geneva\; font-size:12pt">&nbsp\;&quot\;</span><span style="font-family:verdana\,sans-serif\; font-size:14pt"><span style="font-size:14pt">CEO Justin Moon founded Kahr Arms in 1995. &nbsp\;Moon had obtained a concealed carry license at the age of 18\, but at that time he couldn&#39\;t find any quality made compact and sub-compact handguns that met his needs...</span></span><span style="font-family:verdana\,geneva\; font-size:12pt">&quot\;</span></p>\n\n<div>\n<p>&nbsp\;</p>\n</div>\n
LOCATION:At ALL Bill's Gun Shop & Range Locations: https://www.billsgs.com/billsgs-locations
UID:e.380.168208
SEQUENCE:3
DTSTAMP:20260422T102536Z
URL:http://members.metronorthchamber.org/events/details/may-gotm-kahr-ct9-05-01-2016-168208
END:VEVENT

END:VCALENDAR
