BEGIN:VCALENDAR
VERSION:2.0
PRODID:-//ChamberMaster//Event Calendar 2.0//EN
METHOD:PUBLISH
X-PUBLISHED-TTL:P3D
REFRESH-INTERVAL:P3D
CALSCALE:GREGORIAN
BEGIN:VEVENT
DTSTART:20170526T233000Z
DTEND:20170527T013000Z
X-MICROSOFT-CDO-ALLDAYEVENT:FALSE
SUMMARY:May Flowers
DESCRIPTION:The flowers have begun to spring up from the ground\, and much like us\, flowers need sun and water to survive. Lucky for us\, though\, flowers don't do too well with wine\, leaving more for us! Join us on every third Friday of every month for a free wine tasting featuring wines from all around the world and even some local wineries.
X-ALT-DESC;FMTTYPE=text/html:<span style="background-color:rgb(255\, 255\, 255)\; color:rgb(31\, 31\, 31)\; font-family:proxima-nova\,sans-serif\; font-size:14px">The flowers have begun to spring up from the ground\, and much like us\, flowers need sun and water to survive. Lucky for us\, though\, flowers don&rsquo\;t do too well with wine\, leaving more for us! Join us on every third Friday of every month for a free wine tasting featuring wines from all around the world and even some local wineries.</span>
LOCATION:Top Ten Liquor 12513 Central Ave NE Blaine\, MN 55434
UID:e.380.175018
SEQUENCE:3
DTSTAMP:20260421T152458Z
URL:http://members.metronorthchamber.org/events/details/may-flowers-175018
END:VEVENT

END:VCALENDAR
