BEGIN:VCALENDAR
VERSION:2.0
PRODID:-//ChamberMaster//Event Calendar 2.0//EN
METHOD:PUBLISH
X-PUBLISHED-TTL:P3D
REFRESH-INTERVAL:P3D
CALSCALE:GREGORIAN
BEGIN:VEVENT
DTSTART:20180501T214500Z
DTEND:20180501T233000Z
X-MICROSOFT-CDO-ALLDAYEVENT:FALSE
SUMMARY:May Day Derby After-Hours
DESCRIPTION:If you don't own a Kentucky Derby-worthy hat or outfit\, now is the time! Our annual after-hours with the White Bear Area Chamber of Commerce will celebrate May Day and the Kentucky Derby on Tria's beautiful patio\; prizes awarded for the best-themed guests. Also included with your $28 'race ticket': a glass of wine\, a mint julep\, butler-passed appetizers\, a professional photograph by Pink Parasol\, and a $10 Tria gift card.
X-ALT-DESC;FMTTYPE=text/html:<span style="font-size:10pt\;"><span style="font-family:arial\,sans-serif\;">If you don&rsquo\;t own a Kentucky Derby-worthy hat or outfit\, now is the time! Our annual after-hours with the White Bear Area Chamber of Commerce will celebrate May Day and the Kentucky Derby on Tria&rsquo\;s beautiful patio\; prizes awarded for the best-themed guests. Also included with your $28 &lsquo\;race ticket&rsquo\;: a glass of wine\, a mint julep\, butler-passed appetizers\, a professional photograph by Pink Parasol\, and a $10 Tria gift card.&nbsp\;</span></span>
LOCATION:Tria Restaurant\, Bar and Event Center 5959 Centerville Road North Oaks 55127
UID:e.380.180282
SEQUENCE:3
DTSTAMP:20260420T230238Z
URL:http://members.metronorthchamber.org/events/details/may-day-derby-after-hours-180282
END:VEVENT

END:VCALENDAR
