BEGIN:VCALENDAR
VERSION:2.0
PRODID:-//ChamberMaster//Event Calendar 2.0//EN
METHOD:PUBLISH
X-PUBLISHED-TTL:P3D
REFRESH-INTERVAL:P3D
CALSCALE:GREGORIAN
BEGIN:VEVENT
DTSTART:20170526T233000Z
DTEND:20170527T013000Z
X-MICROSOFT-CDO-ALLDAYEVENT:FALSE
SUMMARY:May Craft Beer Tasting
DESCRIPTION:As the phrase goes\, "April showers bring May flowers"\, but what they don't say is that it also brings our May Craft Beer Tasting! Join us as we celebrate spring\, the sun\, flowers\, and\, of course\, tasty craft beer! We will be featuring beers from 56 Brewing\, Able\, Bauhaus\, Boom Island\, Empyrean\, Lagunitas\, Lionheart\, Oliphant\, Surly\, and Tin Whiskers!
X-ALT-DESC;FMTTYPE=text/html:<span style="background-color:rgb(255\, 255\, 255)\; color:rgb(31\, 31\, 31)\; font-family:proxima-nova\,sans-serif\; font-size:14px">As the phrase goes\, &ldquo\;April showers bring May flowers&rdquo\;\, but what they don&rsquo\;t say is that it also brings our May Craft Beer Tasting! Join us as we celebrate spring\, the sun\, flowers\, and\, of course\, tasty craft beer! We will be featuring beers from&nbsp\;</span><strong><a href="http://56brewing.com/" style="box-sizing: border-box\; margin: 0px\; padding: 0px\; border: 0px\; outline: 0px\; background: transparent\; vertical-align: baseline\; color: rgb(102\, 141\, 165)\; text-decoration-line: none\;" target="_blank"><span style="color:#000000">56 Brewing</span></a><span style="color:#000000">\,&nbsp\;</span><a href="http://ablebeer.com/" style="box-sizing: border-box\; margin: 0px\; padding: 0px\; border: 0px\; outline: 0px\; background: transparent\; vertical-align: baseline\; color: rgb(102\, 141\, 165)\; text-decoration-line: none\;"><span style="color:#000000">Able</span></a><span style="color:#000000">\,&nbsp\;</span><a href="http://bauhausbrewlabs.com/" style="box-sizing: border-box\; margin: 0px\; padding: 0px\; border: 0px\; outline: 0px\; background: transparent\; vertical-align: baseline\; color: rgb(102\, 141\, 165)\; text-decoration-line: none\;"><span style="color:#000000">Bauhaus</span></a><span style="color:#000000">\,&nbsp\;</span><a href="http://boomislandbrewing.com/" style="box-sizing: border-box\; margin: 0px\; padding: 0px\; border: 0px\; outline: 0px\; background: transparent\; vertical-align: baseline\; color: rgb(102\, 141\, 165)\; text-decoration-line: none\;"><span style="color:#000000">Boom Island</span></a><span style="color:#000000">\,&nbsp\;</span><a href="https://empyreanbrewingco.com/" style="box-sizing: border-box\; margin: 0px\; padding: 0px\; border: 0px\; outline: 0px\; background: transparent\; vertical-align: baseline\; color: rgb(102\, 141\, 165)\; text-decoration-line: none\;"><span style="color:#000000">Empyrean</span></a><span style="color:#000000">\,&nbsp\;</span><a href="https://lagunitas.com/" style="box-sizing: border-box\; margin: 0px\; padding: 0px\; border: 0px\; outline: 0px\; background: transparent\; vertical-align: baseline\; color: rgb(102\, 141\, 165)\; text-decoration-line: none\;"><span style="color:#000000">Lagunitas</span></a><span style="color:#000000">\, Lionheart\,&nbsp\;</span><a href="http://www.oliphantbrewing.com/" style="box-sizing: border-box\; margin: 0px\; padding: 0px\; border: 0px\; outline: 0px\; background: transparent\; vertical-align: baseline\; color: rgb(102\, 141\, 165)\; text-decoration-line: none\;"><span style="color:#000000">Oliphant</span></a><span style="color:#000000">\,&nbsp\;</span><a href="http://surlybrewing.com/" style="box-sizing: border-box\; margin: 0px\; padding: 0px\; border: 0px\; outline: 0px\; background: transparent\; vertical-align: baseline\; color: rgb(102\, 141\, 165)\; text-decoration-line: none\;"><span style="color:#000000">Surly</span></a><span style="color:#000000">\,&nbsp\;</span></strong><span style="color:#000000"><span style="background-color:rgb(255\, 255\, 255)\; font-family:proxima-nova\,sans-serif\; font-size:14px">and</span></span><a href="http://twbrewing.com/" style="box-sizing: border-box\; margin: 0px\; padding: 0px\; border: 0px\; outline: 0px\; background: rgb(255\, 255\, 255)\; font-size: 14px\; vertical-align: baseline\; color: rgb(102\, 141\, 165)\; text-decoration-line: none\; font-family: proxima-nova\, sans-serif\;"><span style="color:#000000"><strong>&nbsp\;Tin Whiskers</strong></span></a><span style="color:#000000"><span style="background-color:rgb(255\, 255\, 255)\; font-family:proxima-nova\,sans-serif\; font-size:14px">!</span></span>
LOCATION:Top Ten Liquor 13627 Quinn St NW Andover\, MN 55304
UID:e.380.175020
SEQUENCE:3
DTSTAMP:20260421T152528Z
URL:http://members.metronorthchamber.org/events/details/may-craft-beer-tasting-175020
END:VEVENT

END:VCALENDAR
