BEGIN:VCALENDAR
VERSION:2.0
PRODID:-//ChamberMaster//Event Calendar 2.0//EN
METHOD:PUBLISH
X-PUBLISHED-TTL:P3D
REFRESH-INTERVAL:P3D
CALSCALE:GREGORIAN
BEGIN:VEVENT
DTSTART:20180427T230000Z
DTEND:20180428T010000Z
X-MICROSOFT-CDO-ALLDAYEVENT:FALSE
SUMMARY:Mathnasium Open House
DESCRIPTION:Do you have a financial plan in place for your child's college education?\n\n\n\nMathnasium of Blaine is hosting an open house for parents and kids. Parents\, come for a presentation by Nate Klauser from Edward Jones. Nate will discuss the benefits of 529 College Savings Plans.\n\n\n\nAlso\, find out how Mathnasium can help your child succeed. Enrollment specials will be available tonight only. Bring the kids\, and they will learn some Math tips and tricks.
X-ALT-DESC;FMTTYPE=text/html:Do you have a financial plan in place for your child&#39\;s college education?<br />\n<br />\nMathnasium of Blaine is hosting an open house for parents and kids. Parents\, come for a presentation by Nate Klauser from Edward Jones. Nate will discuss the benefits of 529 College Savings Plans.<br />\n<br />\nAlso\, find out how Mathnasium can help your child succeed. Enrollment specials will be available tonight only. Bring the kids\, and they will learn some Math tips and tricks.
LOCATION:1518 125th Avenue NE Blaine MN 55449
UID:e.380.184795
SEQUENCE:3
DTSTAMP:20260420T230608Z
URL:http://members.metronorthchamber.org/events/details/mathnasium-open-house-184795
END:VEVENT

END:VCALENDAR
