BEGIN:VCALENDAR
VERSION:2.0
PRODID:-//ChamberMaster//Event Calendar 2.0//EN
METHOD:PUBLISH
X-PUBLISHED-TTL:P3D
REFRESH-INTERVAL:P3D
CALSCALE:GREGORIAN
BEGIN:VEVENT
DTSTART:20170304T003000Z
DTEND:20170304T023000Z
X-MICROSOFT-CDO-ALLDAYEVENT:FALSE
SUMMARY:Mathnasium Movie Night
DESCRIPTION:Come and watch "Donald Duck in Mathmagic Land". Then listen to Architect Breana Detzler as she explains how math is used in her career. To top off the evening spend time creating your own floor plan. Enjoy popcorn and other goodies to eat. Free of charge. Bring the kids and the neighbors.
X-ALT-DESC;FMTTYPE=text/html:Come and watch &quot\;Donald Duck in Mathmagic Land&quot\;. Then listen to Architect Breana Detzler as she explains how math is used in her career. To top off the evening spend time creating your own floor plan. Enjoy popcorn and other goodies to eat. Free of charge. Bring the kids and the neighbors.
LOCATION:Mathnasium of Blaine 1518 125th Avenue NE Blaine 55449
UID:e.380.171770
SEQUENCE:3
DTSTAMP:20260421T184532Z
URL:http://members.metronorthchamber.org/events/details/mathnasium-movie-night-171770
END:VEVENT

END:VCALENDAR
