BEGIN:VCALENDAR
VERSION:2.0
PRODID:-//ChamberMaster//Event Calendar 2.0//EN
METHOD:PUBLISH
X-PUBLISHED-TTL:P3D
REFRESH-INTERVAL:P3D
CALSCALE:GREGORIAN
BEGIN:VEVENT
DTSTART:20151006T220000Z
DTEND:20151007T010000Z
X-MICROSOFT-CDO-ALLDAYEVENT:FALSE
SUMMARY:Mate Precision Tooling Tour
DESCRIPTION:Bring your parents to work day! Get a behind the scenes tour of Mate Precision Tooling and see their state of the art facility where they create tooling solutions for sheet metal fabricators. Come see high demand jobs and high paying career opportunities at Mate. Stay for pizza and refreshments after the tour\, and have a chance to ask questions. This may be the career you have been looking for!
X-ALT-DESC;FMTTYPE=text/html:Bring your parents to work day! Get a behind the scenes tour of Mate Precision Tooling and see their state of the art facility where they create tooling solutions for sheet metal fabricators. Come see high demand jobs and high paying career opportunities at Mate. Stay for pizza and refreshments after the tour\, and have a chance to ask questions. This may be the career you have been looking for!<br />\n&nbsp\;<br />\n&nbsp\;
LOCATION:Mate Precision Tooling 1295 Lund Boulevard Anoka\, MN 55303
UID:e.380.159585
SEQUENCE:3
DTSTAMP:20260419T124714Z
URL:http://members.metronorthchamber.org/events/details/mate-precision-tooling-tour-10-06-2015-159585
END:VEVENT

END:VCALENDAR
