BEGIN:VCALENDAR
VERSION:2.0
PRODID:-//ChamberMaster//Event Calendar 2.0//EN
METHOD:PUBLISH
X-PUBLISHED-TTL:P3D
REFRESH-INTERVAL:P3D
CALSCALE:GREGORIAN
BEGIN:VEVENT
DTSTART:20141205T160000Z
DTEND:20141206T000000Z
X-MICROSOFT-CDO-ALLDAYEVENT:FALSE
SUMMARY:Mary Kay Sparkle Holiday Open House
DESCRIPTION:Find brilliant gifts for everyone on your list. Radiant Skin Care\, Colorful Collections\, Festive Favorites to put a sparkle in their eyes!
X-ALT-DESC;FMTTYPE=text/html:<span style="font-size: 10pt\;"><span style="font-family: arial\,sans-serif\;"><span style="color: rgb(51\, 51\, 51)\;">Find brilliant gifts for everyone on your list. Radiant Skin Care\, Colorful Collections\, Festive Favorites to put a sparkle in their eyes!</span></span></span><br />\n&nbsp\;
LOCATION:Karen's Mary Kay Studio 11721 Evergreen CR NW Coon Rapids\, MN 55448
UID:e.380.152138
SEQUENCE:3
DTSTAMP:20260423T163222Z
URL:http://members.metronorthchamber.org/events/details/mary-kay-sparkle-holiday-open-house-12-05-2014-152138
END:VEVENT

END:VCALENDAR
