BEGIN:VCALENDAR
VERSION:2.0
PRODID:-//ChamberMaster//Event Calendar 2.0//EN
METHOD:PUBLISH
X-PUBLISHED-TTL:P3D
REFRESH-INTERVAL:P3D
CALSCALE:GREGORIAN
BEGIN:VEVENT
DTSTART:20141122T160000Z
DTEND:20141123T000000Z
X-MICROSOFT-CDO-ALLDAYEVENT:FALSE
SUMMARY:Mary Kay Sparkle Holiday Open House
DESCRIPTION:Find brilliant gifts for everyone on your list. Radiant Skin Care\, Colorful Collections\, Festive Favorites to put a sparkle in their eyes!
X-ALT-DESC;FMTTYPE=text/html:Find brilliant gifts for everyone on your list. Radiant Skin Care\, Colorful Collections\, Festive Favorites to put a sparkle in their eyes!
LOCATION:Karen's Mary Kay Studio 11721 Evergreen CR NW Coon Rapids\, MN 55448
UID:e.380.152137
SEQUENCE:3
DTSTAMP:20260423T192428Z
URL:http://members.metronorthchamber.org/events/details/mary-kay-sparkle-holiday-open-house-11-22-2014-152137
END:VEVENT

END:VCALENDAR
