BEGIN:VCALENDAR
VERSION:2.0
PRODID:-//ChamberMaster//Event Calendar 2.0//EN
METHOD:PUBLISH
X-PUBLISHED-TTL:P3D
REFRESH-INTERVAL:P3D
CALSCALE:GREGORIAN
BEGIN:VEVENT
DTSTART:20140421T233000Z
DTEND:20140422T013000Z
X-MICROSOFT-CDO-ALLDAYEVENT:FALSE
SUMMARY:Mary Kay Free Facial / Makeovers at Cambria Suites
DESCRIPTION:Free facial and makeover on Monday nights at Cambria Suites.\n\nFree gift for Karen Hofer's guests over 18.\n\nFull-size oil  free eye makeup remover & full-size mascara.\n\nContact below. RSVP required.\n\n\n\nKaren Hofer 763-754-7758 or lakahofer@yahoo.com.
X-ALT-DESC;FMTTYPE=text/html:<br />\nFree facial and makeover on Monday nights at Cambria Suites.<br />\n<strong><span style="background-color:#ee82ee\;">Free gift for Karen Hofer&#39\;s guests over 18</span></strong>.<br />\n<span style="background-color:#ee82ee\;">Full-size oil &nbsp\;free eye makeup remover &amp\; full-size mascara.</span><br />\nContact below. RSVP required.<br />\n<br />\nKaren Hofer 763-754-7758 or <a href="mailto:lakahofer@yahoo.com?subject=Mary%20Kay%20Free%20Facial%20%2F%20Makeovers%20at%20Cambria%20Suites">lakahofer@yahoo.com</a>.
LOCATION:Cambria Suites 9655 Grove Circle Maple Grove\, 55369
UID:e.380.151100
SEQUENCE:3
DTSTAMP:20260424T044625Z
URL:http://members.metronorthchamber.org/events/details/mary-kay-free-facial-makeovers-at-cambria-suites-04-21-2014-151100
END:VEVENT

END:VCALENDAR
