BEGIN:VCALENDAR
VERSION:2.0
PRODID:-//ChamberMaster//Event Calendar 2.0//EN
METHOD:PUBLISH
X-PUBLISHED-TTL:P3D
REFRESH-INTERVAL:P3D
CALSCALE:GREGORIAN
BEGIN:VEVENT
DTSTART:20160927T220000Z
DTEND:20160928T010000Z
X-MICROSOFT-CDO-ALLDAYEVENT:FALSE
SUMMARY:Mary Kay & Chema Malu Fundraiser for Epiphany School Marathon
DESCRIPTION:Join us for an exclusive Mary Kay and Chema Malu shopping event to benefit Epiphany Catholic School and its annual Marathon fundraising efforts! Your purchases at this event generate proceeds that help the school reach its goal of $40\,000 in community support this year. Chema Malu is a gift shop owned by two sisters in downtown Anoka. They support over 45 local artists\, have home decor and gifts. This provides an eclectic mix of gifts for everyone in your family. Amy Weber-DeRaad will also be on site to share Mary Kay pampering! We look forward to meeting you on September 27.
X-ALT-DESC;FMTTYPE=text/html:<span style="color:rgb(75\, 79\, 86)\; font-family:helvetica\,arial\,sans-serif\; font-size:14px">Join us for an exclusive Mary Kay and Chema Malu shopping event to benefit Epiphany Catholic School and its annual Marathon fundraising efforts! Your purchases at this event generate proceeds that help the school reach its goal of $40\,000 in community support this year. Chema Malu is a gift shop owned by two sisters in downtown Anoka. They support over 45 local artists\, have home decor and gifts. This provides an eclectic mix of gifts for everyone in your family. Amy Weber-DeRaad will also be on site to share Mary Kay pampering!&nbsp\;We look forward to meeting you on September 27.</span>
LOCATION:Chema Malu 208 East Main Street\, Anoka\, Minnesota 55303
UID:e.380.169479
SEQUENCE:3
DTSTAMP:20260422T052534Z
URL:http://members.metronorthchamber.org/events/details/mary-kay-chema-malu-fundraiser-for-epiphany-school-marathon-169479
END:VEVENT

END:VCALENDAR
