BEGIN:VCALENDAR
VERSION:2.0
PRODID:-//ChamberMaster//Event Calendar 2.0//EN
METHOD:PUBLISH
X-PUBLISHED-TTL:P3D
REFRESH-INTERVAL:P3D
CALSCALE:GREGORIAN
BEGIN:VEVENT
DTSTART:20150203T004500Z
DTEND:20150203T030000Z
X-MICROSOFT-CDO-ALLDAYEVENT:FALSE
SUMMARY:Mary Kay Beauty Bash
DESCRIPTION:You are invited to experience the ultimate pampering season.  Including a Microdermabrasion treatment.   Join us and get gorgeous.
X-ALT-DESC;FMTTYPE=text/html:<h1>You are invited to experience the ultimate pampering season. &nbsp\;Including a Microdermabrasion treatment. &nbsp\; Join us and get gorgeous.</h1>\n
LOCATION:Civic Center\, 11155 Robinson Drive Coon Rapids MN
UID:e.380.152554
SEQUENCE:3
DTSTAMP:20260423T130354Z
URL:http://members.metronorthchamber.org/events/details/mary-kay-beauty-bash-02-02-2015-152554
END:VEVENT

END:VCALENDAR
