BEGIN:VCALENDAR
VERSION:2.0
PRODID:-//ChamberMaster//Event Calendar 2.0//EN
METHOD:PUBLISH
X-PUBLISHED-TTL:P3D
REFRESH-INTERVAL:P3D
CALSCALE:GREGORIAN
BEGIN:VEVENT
DTSTART:20171214T233000Z
DTEND:20171215T020000Z
X-MICROSOFT-CDO-ALLDAYEVENT:FALSE
SUMMARY:Mary Fridley murdered? The (re)trial of the (past) Century
DESCRIPTION:Put Fred Price on trial again for the 1914 murder of his wife Mary Fridley Price. Was it Murder\, or a tragic Accident? You decide\, with the help of County Attorney Tony Palumbo and our amazing volunteers cast as witnesses\, the accused\, and a stellar legal team.
X-ALT-DESC;FMTTYPE=text/html:<span style="font-size:12px"><span style="font-family:arial\,helvetica\,sans-serif">Put Fred Price on trial again for the 1914 murder of his wife Mary Fridley Price. Was it Murder\, or a tragic Accident? You decide\, with the help of County Attorney Tony Palumbo and our amazing volunteers cast as witnesses\, the accused\, and a stellar legal team.</span></span><br />\n<br />\n&nbsp\;
LOCATION:Anoka County Historical Society 2135 Third Ave N Anoka\, MN 55303
UID:e.380.179276
SEQUENCE:3
DTSTAMP:20260421T052153Z
URL:http://members.metronorthchamber.org/events/details/mary-fridley-murdered-the-re-trial-of-the-past-century-179276
END:VEVENT

END:VCALENDAR
