BEGIN:VCALENDAR
VERSION:2.0
PRODID:-//ChamberMaster//Event Calendar 2.0//EN
METHOD:PUBLISH
X-PUBLISHED-TTL:P3D
REFRESH-INTERVAL:P3D
CALSCALE:GREGORIAN
BEGIN:VEVENT
DTSTART:20150422T154500Z
DTEND:20150422T160000Z
X-MICROSOFT-CDO-ALLDAYEVENT:FALSE
SUMMARY:Mary Albright Ribbon Cutting
DESCRIPTION:Ribbon Cutting for Mary Albright Consulting
X-ALT-DESC;FMTTYPE=text/html:Ribbon Cutting for Mary Albright Consulting
LOCATION:We will be holding a Ribbon Cutting for Mary Albright Consulting after the April Working With Women networking event.
UID:e.380.157066
SEQUENCE:3
DTSTAMP:20260423T095443Z
URL:http://members.metronorthchamber.org/events/details/mary-albright-ribbon-cutting-04-22-2015-157066
END:VEVENT

END:VCALENDAR
