BEGIN:VCALENDAR
VERSION:2.0
PRODID:-//ChamberMaster//Event Calendar 2.0//EN
METHOD:PUBLISH
X-PUBLISHED-TTL:P3D
REFRESH-INTERVAL:P3D
CALSCALE:GREGORIAN
BEGIN:VEVENT
DTSTART:20131017T131500Z
DTEND:20131017T140000Z
X-MICROSOFT-CDO-ALLDAYEVENT:FALSE
SUMMARY:Marketing 201
DESCRIPTION:Are you looking to grow your business?\n\n \n\nCome to a COST-FREE Marketing 201 Class!\n\n8:15 AM   Chamber Office\n\n \n\nThis marketing class will be presented by MetroNorth's Membership Resource Director\, Holly Krebsbach\, for not-yet members\, new members\, and veteran members.\n\n\n\n   Learn how to advertise through the chamber.\n\n  Techniques to market your business effectively.\n\n  Increase your business' visibility and exposure. \n\n  RSVP required.
X-ALT-DESC;FMTTYPE=text/html:<p style="text-align: center"><span style="color: rgb(0\,0\,255)"><span style="font-size: 14px"><strong><span style="font-family: georgia">Are you looking to grow&nbsp\;</span></strong><strong><span style="font-family: georgia">your business?</span></strong></span></span><br />\n<span style="color: rgb(0\,0\,255)"><span style="font-size: 14px">&nbsp\;<br />\n<span style="font-family: georgia">Come to a&nbsp\;<u>COST-FREE</u>&nbsp\;Marketing 201 Class!</span></span></span><br />\n<span style="color: rgb(0\,0\,255)"><span style="font-size: 14px"><span style="font-family: georgia">8:15 AM &ndash\; Chamber Office</span></span></span><br />\n<span style="color: rgb(0\,0\,255)"><span style="font-size: 14px">&nbsp\;<br />\n<span style="font-family: georgia">This marketing class will be presented by MetroNorth&rsquo\;s Membership Resource Director\, Holly Krebsbach\, for not-yet members\, new members\, and veteran members.</span><br />\n<br />\n&nbsp\;</span></span><span style="color: rgb(0\,0\,255)"><span style="font-size: 14px"><span style="font-family: georgia">&#9702\; Learn how to&nbsp\;<strong><em>advertise</em></strong>&nbsp\;through the chamber.</span><br />\n<span style="font-family: georgia">&#9702\;&nbsp\;</span><span style="font-family: georgia">Techniques to&nbsp\;<strong>market</strong>&nbsp\;your business&nbsp\;<strong><em>effectively.</em></strong></span><br />\n<span style="font-family: georgia">&#9702\;&nbsp\;</span><span style="font-family: georgia">Increase your business&rsquo\;&nbsp\;<strong><em>visibility</em></strong>&nbsp\;and&nbsp\;<strong><em>exposure</em></strong>.&nbsp\;</span></span></span><br />\n<span style="color: rgb(0\,0\,255)"><span style="font-size: 14px"><span style="font-family: georgia">&#9702\; RSVP&nbsp\;<u>required</u>.&nbsp\;</span></span></span></p>\n
LOCATION:9380 Central Ave NE\, Ste 320 Blaine\, MN 55434
UID:e.380.142888
SEQUENCE:3
DTSTAMP:20260424T144025Z
URL:http://members.metronorthchamber.org/events/details/marketing-201-10-17-2013-142888
END:VEVENT

END:VCALENDAR
