BEGIN:VCALENDAR
VERSION:2.0
PRODID:-//ChamberMaster//Event Calendar 2.0//EN
METHOD:PUBLISH
X-PUBLISHED-TTL:P3D
REFRESH-INTERVAL:P3D
CALSCALE:GREGORIAN
BEGIN:VEVENT
DTSTART:20160818T131500Z
DTEND:20160818T141500Z
X-MICROSOFT-CDO-ALLDAYEVENT:FALSE
SUMMARY:Marketing 201
DESCRIPTION:We want to invite you to our hands-on Marketing 201 orientation. What does that mean? \n\nBesides learning the many ways you can grow your business through our marketing channels\, you will actively ensure your online presence is as robust as possible by logging into our website for personalized instruction. Our website is very Google-icous and you will want to take advantage of our tips and tricks to raise your SEO profile.  \n\nPlease RSVP ASAP. There's no cost\, just bring business cards as you will meet other new members like yourself just learning about the Chamber and all we provide.
X-ALT-DESC;FMTTYPE=text/html:<p style="line-height:14.2pt"><span style="color:#000000\;"><span style="font-size: 10pt\; font-family: Arial\, sans-serif\;">We want to invite you to our&nbsp\;hands-on Marketing 201&nbsp\;orientation.&nbsp\;What does that mean? </span></span><span style="font-size:10.0pt"><o:p></o:p></span></p>\n\n<p style="line-height:14.2pt"><span style="color:#000000\;"><span style="font-size: 10pt\; font-family: Arial\, sans-serif\;">Besides <u>learning</u> the many ways you can grow your business through our marketing channels\, you will <u>actively ensure</u> your online presence is as robust as possible by logging into our website for personalized instruction. Our website is very Google-icous&nbsp\;and you will want to take advantage of our tips and&nbsp\;tricks to raise your SEO profile. &nbsp\;</span></span><span style="font-size: 10pt\; font-family: Arial\, sans-serif\;"><o:p></o:p></span></p>\n\n<p style="line-height:14.2pt"><span style="color:#000000\;"><span style="font-size: 10pt\; font-family: Arial\, sans-serif\;">Please RSVP ASAP. There&#39\;s no cost\, just bring business cards as </span><span style="font-size:10.0pt\;\nfont-family:&quot\;Arial&quot\;\,sans-serif">you will&nbsp\;meet other new members like yourself&nbsp\;just learning about the Chamber and all we provide. </span></span><span style="font-size:10.0pt\;\nfont-family:&quot\;Arial&quot\;\,sans-serif"><i><o:p></o:p></i></span></p>\n\n<p style="line-height:14.2pt">&nbsp\;</p>\n
LOCATION:Rasmussen College 3629 95th Avenue NE Blaine\, MN 55014 (Your GPS will lead you astray. If you need directions\, please call the MetroNorth Chamber.)
UID:e.380.166974
SEQUENCE:3
DTSTAMP:20260422T083900Z
URL:http://members.metronorthchamber.org/events/details/marketing-201-08-18-2016-166974
END:VEVENT

END:VCALENDAR
