BEGIN:VCALENDAR
VERSION:2.0
PRODID:-//ChamberMaster//Event Calendar 2.0//EN
METHOD:PUBLISH
X-PUBLISHED-TTL:P3D
REFRESH-INTERVAL:P3D
CALSCALE:GREGORIAN
BEGIN:VEVENT
DTSTART:20190815T131500Z
DTEND:20190815T141500Z
X-MICROSOFT-CDO-ALLDAYEVENT:FALSE
SUMMARY:Marketing 201
DESCRIPTION:We want to invite you to our hands-on Marketing 201 orientation. Besides learning the many ways you can grow your business through our marketing channels\, you will actively ensure your online presence is as robust as possible by logging into our website for personalized instruction. Our website is very "Google-icous" and you will want to take advantage of our tips and tricks to raise your SEO profile.  \n\n\n\nThere's no cost\, just bring your laptop or tablet and business cards\, as you'll meet other new members like yourself just learning about the Chamber and all we provide.
X-ALT-DESC;FMTTYPE=text/html:<span style="font-size:10.0pt\;">We want to invite you to our&nbsp\;hands-on Marketing 201&nbsp\;orientation. Besides&nbsp\;<u>learning</u>&nbsp\;the many ways you can grow your business through our marketing channels\, you will&nbsp\;<u>actively ensure</u>&nbsp\;your online presence is as robust as possible by logging into our website for personalized instruction. Our website is very &quot\;Google-icous&quot\;&nbsp\;and you will want to take advantage of our tips and&nbsp\;tricks to raise your SEO profile. &nbsp\;</span><br />\n<br />\n<span style="font-size:10.0pt\;">There&#39\;s no cost\, just bring your laptop or tablet and business cards\, as&nbsp\;you&#39\;ll meet other new members like yourself&nbsp\;just learning about the Chamber and all we provide.</span><br />\n<br />\n&nbsp\;
LOCATION:MetroNorth Chamber of Commerce 21st Century Bank Building 9380 Central Avenue\, Suite 320 Blaine 55434
UID:e.380.188508
SEQUENCE:3
DTSTAMP:20260419T213131Z
URL:http://members.metronorthchamber.org/events/details/marketing-201-08-15-2019-188508
END:VEVENT

END:VCALENDAR
