BEGIN:VCALENDAR
VERSION:2.0
PRODID:-//ChamberMaster//Event Calendar 2.0//EN
METHOD:PUBLISH
X-PUBLISHED-TTL:P3D
REFRESH-INTERVAL:P3D
CALSCALE:GREGORIAN
BEGIN:VEVENT
DTSTART:20170615T131500Z
DTEND:20170615T141500Z
X-MICROSOFT-CDO-ALLDAYEVENT:FALSE
SUMMARY:Marketing 201
DESCRIPTION:We want to invite you to our hands-on Marketing 201 orientation. Besides learning the many ways you can grow your business through our marketing channels\, you will actively ensure your online presence is as robust as possible by logging into our website for personalized instruction. Our website is very "Google-icous" and you will want to take advantage of our tips and tricks to raise your SEO profile.  \n\nPlease RSVP ASAP. There's no cost\, just bring business cards as you'll meet other new members like yourself just learning about the Chamber and all we provide.
X-ALT-DESC;FMTTYPE=text/html:<p style="color: rgb(51\, 51\, 51)\; font-family: sans-serif\, Arial\, Verdana\, &quot\;Trebuchet MS&quot\;\; font-size: 13px\; line-height: 14.2pt\;"><span style="color: rgb(0\, 0\, 0)\;"><span style="font-size: 10pt\; font-family: Arial\, sans-serif\;">We want to invite you to our&nbsp\;hands-on Marketing 201&nbsp\;orientation.&nbsp\;</span></span><span style="color: rgb(0\, 0\, 0)\;"><span style="font-size: 10pt\; font-family: Arial\, sans-serif\;">Besides&nbsp\;<u>learning</u>&nbsp\;the many ways you can grow your business through our marketing channels\, you will&nbsp\;<u>actively ensure</u>&nbsp\;your online presence is as robust as possible by logging into our website for personalized instruction. Our website is very &quot\;Google-icous&quot\;&nbsp\;and you will want to take advantage of our tips and&nbsp\;tricks to raise your SEO profile. &nbsp\;</span></span></p>\n\n<p style="color: rgb(51\, 51\, 51)\; font-family: sans-serif\, Arial\, Verdana\, &quot\;Trebuchet MS&quot\;\; font-size: 13px\; line-height: 14.2pt\;"><span style="color: rgb(0\, 0\, 0)\;"><span style="font-size: 10pt\; font-family: Arial\, sans-serif\;">Please RSVP ASAP. There&#39\;s no cost\, just bring business cards as&nbsp\;</span><span style="font-size: 10pt\;">you&#39\;ll meet other new members like yourself&nbsp\;just learning about the Chamber and all we provide.</span></span></p>\n\n<div>&nbsp\;</div>\n
LOCATION:Rasmussen College 3629 95th Avenue NE Blaine\, MN 55014
UID:e.380.167168
SEQUENCE:3
DTSTAMP:20260421T135304Z
URL:http://members.metronorthchamber.org/events/details/marketing-201-06-15-2017-167168
END:VEVENT

END:VCALENDAR
