BEGIN:VCALENDAR
VERSION:2.0
PRODID:-//ChamberMaster//Event Calendar 2.0//EN
METHOD:PUBLISH
X-PUBLISHED-TTL:P3D
REFRESH-INTERVAL:P3D
CALSCALE:GREGORIAN
BEGIN:VEVENT
DTSTART:20190429T163000Z
DTEND:20190429T181500Z
X-MICROSOFT-CDO-ALLDAYEVENT:FALSE
SUMMARY:Marijuana Legalization & The Workforce
DESCRIPTION:The legalization of recreational marijuana in Minnesota could become a reality\, as early as this year. While there are many social aspects to this debate\, the issue that has hardly been discussed relates to the impact of marijuana usage on employee policies\, overall employee productivity\, and other factors affecting the workplace itself. Mr. Curtis Graves\, Esp. SPHR\, of the Colorado Employer's Council will share insights on these\, and other\, topics that Colorado businesses have addressed since 2014 when marijuana became legal in their state.  Moderated by Tom Hauser\, KSTP TV.
X-ALT-DESC;FMTTYPE=text/html:<p style="margin: 0px 0px 16px\;"><span style="margin: 0px\; font-family: "><font size="3">The legalization of recreational marijuana in Minnesota could become a reality\, as early as this year. While there are many social aspects to this debate\, the issue that has hardly been discussed relates to the impact of marijuana usage on employee policies\, overall employee productivity\, and other factors affecting the workplace itself. Mr. Curtis Graves\, Esp. SPHR\, of the Colorado Employer&rsquo\;s Council will share insights on these\, and other\, topics that Colorado businesses have addressed since 2014 when marijuana became legal in their state.&nbsp\;<span style="margin: 0px\;"> Moderated by Tom Hauser\, KSTP TV.&nbsp\;</span></font></span></p>\n
LOCATION:The Best Western Plus / North Metro Event Center 1000 Gramsie Road Shoreview 55126
UID:e.380.188572
SEQUENCE:3
DTSTAMP:20260420T040815Z
URL:http://members.metronorthchamber.org/events/details/marijuana-legalization-the-workforce-188572
END:VEVENT

END:VCALENDAR
