BEGIN:VCALENDAR
VERSION:2.0
PRODID:-//ChamberMaster//Event Calendar 2.0//EN
METHOD:PUBLISH
X-PUBLISHED-TTL:P3D
REFRESH-INTERVAL:P3D
CALSCALE:GREGORIAN
BEGIN:VEVENT
DTSTART;VALUE=DATE:20160301
DTEND;VALUE=DATE:20160401
TRANSP:TRANSPARENT
X-MICROSOFT-CDO-ALLDAYEVENT:TRUE
SUMMARY:March GOTM: CZ 85B
DESCRIPTION:March Gun of the Month - CZ Model 85B\n\nMarch 1-31\, 2016\, on in stock items only.\n\nEnter in store to win a FREE CZ Model 85B!\n\n\n*FREE rental fee on the CZ Model 85B Pistols all month long! Try it before you buy it!\n\n*Ammo not included.\n\nMarch 17th  St. Patty's Day Special\n\nWear Green & Get 2-For-1 on Shared Lane Fees!\n\nMarch 27th  CLOSED Easter\n\nJoin Our Mailing List to find out how to Win A FREE Gun Every Month!\n\nOnly at Bill's Gun Shop & Range Locations!\n\nReview of the CZ Model 85B by the Average Joe\n\n"Anyone...who knows me or anyone who has read my review knows that I love CZ pistols. I love everything about them...." Read more: https://www.billsgs.com/
X-ALT-DESC;FMTTYPE=text/html:<p>March Gun of the Month - CZ Model 85B<br />\nMarch 1-31\, 2016\, on in stock items only.</p>\n\n<p>Enter in store to win a FREE CZ Model 85B!</p>\n\n<div>\n<p>*FREE rental fee on the CZ Model 85B Pistols all month long! Try it before you buy it!</p>\n\n<p>*Ammo not included.</p>\n\n<p>March 17th &middot\;St. Patty&#39\;s Day Special<br />\nWear Green &amp\; Get 2-For-1 on Shared Lane Fees!</p>\n\n<p>March 27th &middot\;CLOSED Easter</p>\n\n<p>Join Our Mailing List to find out how to Win A FREE Gun Every Month!<br />\nOnly at Bill&#39\;s Gun Shop &amp\; Range Locations!</p>\n\n<p>Review of the CZ Model 85B by the Average Joe<br />\n&quot\;Anyone...who knows me or anyone who has read my review knows that I love CZ pistols. I love everything about them....&quot\; Read more: <a href="https://www.facebook.com/l.php?u=https%3A%2F%2Fwww.billsgs.com%2F&amp\;h=EAQE3M180AQHCO2ZS2bmkwxlEo8DFBFMTwcW-c5LoQEUvTA&amp\;enc=AZNPPTvxCUIuWO_bbtuqH5Pz3eQ0QLisCenUbHot07EBn7PP56NTDt5afyeasA-NlDBVrT_gHdkCy3rSifRZMoCuI9KDvDlG-SQlsmKqzqBzoG8JZ1iF8sHmEBv_QfLqdiuiXeon3aOVwEDff-rRBzfByvdKdPf4PXrgqyKaN2xb-kI4asD5OCAI6f8n0awkrjlvhgtgOw_urcmX4ImTLVEQ&amp\;s=1" rel="nofollow" target="_blank">https://www.billsgs.com/</a></p>\n</div>\n\n<div>\n<p>&nbsp\;</p>\n</div>\n
LOCATION:At ALL Bill's Gun Shop & Range Locations: https://www.billsgs.com/billsgs-locations
UID:e.380.164813
SEQUENCE:3
DTSTAMP:20260422T163130Z
URL:http://members.metronorthchamber.org/events/details/march-gotm-cz-85b-03-01-2016-164813
END:VEVENT

END:VCALENDAR
