BEGIN:VCALENDAR
VERSION:2.0
PRODID:-//ChamberMaster//Event Calendar 2.0//EN
METHOD:PUBLISH
X-PUBLISHED-TTL:P3D
REFRESH-INTERVAL:P3D
CALSCALE:GREGORIAN
BEGIN:VEVENT
DTSTART:20120322T200000Z
DTEND:20120323T000000Z
X-MICROSOFT-CDO-ALLDAYEVENT:FALSE
SUMMARY:March 22 open house to outline Arden Hills area projects
DESCRIPTION:March 22 open house to outline Arden Hills area projects on I-694\, Highway 10\, Lexington Avenue for 2012 and beyond\n\n\n\nWith reconstruction of the interchange of I-694\, Highway 10\, Snelling Avenue and Hamline Avenue in Arden Hills poised to resume\, along with work on Highway 10 and Lexington Avenue\, the Minnesota Department of Transportation will host an informational open house Thursday\, March 22.  This year's work will be highlighted at the meeting from 3 p.m. to 7 p.m. Thursday\, March 22\, at Arden Hills City Hall\, 1245 West County Road 96 in Arden Hills.\n\n\n\nThe projects will rebuild highways and bridges to improve safety and mobility. Additional construction this year will replace the Highway 10 bridges at I-35W and theI-694 bridges at Island Lake between Lexington Avenue and Victoria Street. The Lexington Avenue bridge over I-694 will be widened.\n\n\n\nLayouts and graphics of the improvements will be displayed during the informal open house. Representatives from the Minnesota Department of Transportation\, Ramsey County and the city of Arden Hills will be in attendance to answer questions.  There will be no formal presentation.\n\n\n\nTo request an ASL interpreter call 651-366-4720. To request other reasonable accommodations\, call 651-366-4718\; the Minnesota Relay Service toll-free at 1-800-627-3529 (TTY\, Voice or ASCII) or 711\, or e-mail your request to ADArequest@dot.state.mn.us.\n\n\n\nFor more information on the I-694/Hwy 10/ Snelling/Hamline Interchange Reconstruction Project or to sign up for construction updates\, please visit http://www.dot.state.mn.us/metro/projects/694expand/.\n\n\n\nStatewide traffic\, construction and travel information is available at www.511mn.org\, call 5-1-1 or log on to www.mndot.gov.
X-ALT-DESC;FMTTYPE=text/html:<strong><span style="font-size:14px\;"><span style="font-family: tahoma\;">March 22 open house to outline Arden Hills area projects on I-694\, Highway 10\, Lexington Avenue for 2012 and beyond</span></span></strong><br />\n<br />\nWith reconstruction of the interchange of I-694\, Highway 10\, Snelling Avenue and Hamline Avenue in Arden Hills poised to resume\, along with work on Highway 10 and Lexington Avenue\, the Minnesota Department of Transportation will host an informational open house Thursday\, March 22.&nbsp\; This year&rsquo\;s work will be highlighted at the meeting from 3 p.m. to 7 p.m. Thursday\, March 22\, at Arden Hills City Hall\, 1245 West County Road 96 in Arden Hills.<br />\n<br />\nThe projects will rebuild highways and bridges to improve safety and mobility. Additional construction this year will replace the Highway 10 bridges at I-35W and theI-694 bridges at Island Lake between Lexington Avenue and Victoria Street. The Lexington Avenue bridge over I-694 will be widened.<br />\n<br />\nLayouts and graphics of the improvements will be displayed during the informal open house. Representatives from the Minnesota Department of Transportation\, Ramsey County and the city of Arden Hills will be in attendance to answer questions.&nbsp\; There will be no formal presentation.<br />\n<br />\nTo request an ASL interpreter call 651-366-4720. To request other reasonable accommodations\, call 651-366-4718\; the Minnesota Relay Service toll-free at 1-800-627-3529 (TTY\, Voice or ASCII) or 711\, or e-mail your request to <a href="mailto:ADArequest@dot.state.mn.us?subject=ASL%20interpreter">ADArequest@dot.state.mn.us</a>.<br />\n<br />\nFor more information on the I-694/Hwy 10/ Snelling/Hamline Interchange Reconstruction Project or to sign up for construction updates\, please visit <a href="http://www.dot.state.mn.us/metro/projects/694expand/">http://www.dot.state.mn.us/metro/projects/694expand/</a>.<br />\n<br />\nStatewide traffic\, construction and travel information is available at <a href="http://www.511mn.org/">www.511mn.org</a>\, call 5-1-1 or log on to <a href="http://www.dot.state.mn.us/">www.mndot.gov</a>.
LOCATION:Arden Hills City Hall\, 1245 West County Road 96 in Arden Hills
UID:e.380.143512
SEQUENCE:3
DTSTAMP:20260425T211351Z
URL:http://members.metronorthchamber.org/events/details/march-22-open-house-to-outline-arden-hills-area-projects-03-22-2012-143512
END:VEVENT

END:VCALENDAR
