BEGIN:VCALENDAR
VERSION:2.0
PRODID:-//ChamberMaster//Event Calendar 2.0//EN
METHOD:PUBLISH
X-PUBLISHED-TTL:P3D
REFRESH-INTERVAL:P3D
CALSCALE:GREGORIAN
BEGIN:VEVENT
DTSTART:20130904T200000Z
DTEND:20130905T000000Z
X-MICROSOFT-CDO-ALLDAYEVENT:FALSE
SUMMARY:Malmborg's Farmers Market
DESCRIPTION:Vendors providing the community with fresh\, locally grown produce\, arts & crafts\, and food trucks with ready-to-eat items for purchase.
X-ALT-DESC;FMTTYPE=text/html:Vendors providing the community with fresh\, locally grown produce\, arts &amp\; crafts\, and food trucks with ready-to-eat items for purchase.
LOCATION:Malmborg's Garden Center 2456 125th Avenue NE Blaine\, MN 55449
UID:e.380.148313
SEQUENCE:3
DTSTAMP:20260424T163014Z
URL:http://members.metronorthchamber.org/events/details/malmborg-s-farmers-market-09-04-2013-148313
END:VEVENT

END:VCALENDAR
