BEGIN:VCALENDAR
VERSION:2.0
PRODID:-//ChamberMaster//Event Calendar 2.0//EN
METHOD:PUBLISH
X-PUBLISHED-TTL:P3D
REFRESH-INTERVAL:P3D
CALSCALE:GREGORIAN
BEGIN:VEVENT
DTSTART:20120929T140000Z
DTEND:20120929T200000Z
X-MICROSOFT-CDO-ALLDAYEVENT:FALSE
SUMMARY:Malmborg's Fall Arts & Crafts Show
DESCRIPTION:Local Artists & Crafters in the Garden Center and Fall Gardening Specials.\n\n\n\nFind applications and more information on our website at http://www.malmborgsinc.com/index.cfm/fuseaction/home.showpage/pageID/36/index.htm
X-ALT-DESC;FMTTYPE=text/html:Local Artists &amp\; Crafters in the Garden Center and Fall Gardening Specials.<br />\n<br />\nFind applications and more information on our website at http://www.malmborgsinc.com/index.cfm/fuseaction/home.showpage/pageID/36/index.htm
LOCATION:Malmborg's Garden Center 2456 125th Ave. NE Blaine\, MN 55449
UID:e.380.146186
SEQUENCE:3
DTSTAMP:20260425T112355Z
URL:http://members.metronorthchamber.org/events/details/malmborg-s-fall-arts-crafts-show-09-29-2012-146186
END:VEVENT

END:VCALENDAR
