BEGIN:VCALENDAR
VERSION:2.0
PRODID:-//ChamberMaster//Event Calendar 2.0//EN
METHOD:PUBLISH
X-PUBLISHED-TTL:P3D
REFRESH-INTERVAL:P3D
CALSCALE:GREGORIAN
BEGIN:VEVENT
DTSTART:20130320T123000Z
DTEND:20130320T150000Z
X-MICROSOFT-CDO-ALLDAYEVENT:FALSE
SUMMARY:Make Your Business Work for YOU!
DESCRIPTION:ATTENTION:  BUSINESS OWNERS AND LEADERS   \n\n\n\n	Structure Your Business For Growth!\n\n	 \n\n	Being a Jack-Of-All-Trades is not all it's cracked up to be.  According to a 2013 survey by Staples\, 69% of small business owners wish they could focus all of their attention on their actual business and leave daily tasks to someone else.  And while those tasks are important\, are they robbing you of being the true leader you need to be?  Come and learn how to break free and experience growth!\n\n	 \n\n	        Time-tested\, 6 Steps to moving your business to the top \n\n	        How to gain control of your TIME\, TEAM\, and MONEY \n\n	        How to recruit\, motivate\, and retain a team of employees \n\n	        Understand the 5 Factors critical to driving your profits \n\n	 \n\n	You won't want to miss this Free Workshop. Just one idea could change your business forever!
X-ALT-DESC;FMTTYPE=text/html:<div style="text-align: center\;">\n	<span style="font-size:20px\;"><span style="font-style: italic\; font-family: 'copperplate gothic bold'\, sans-serif\;">ATTENTION: </span>&nbsp\;<em><span style="font-family:copperplate gothic bold\,sans-serif\;">BUSINESS OWNERS AND LEADERS &nbsp\;&nbsp\;</span></em></span></div>\n<br />\n<div style="text-align: center\;">\n	<span style="font-size:18px\;"><span style="font-size:20px\;"><strong><em><span style="color:black\;"><span style="font-family:arial narrow\,sans-serif\;">Structure Your Business For Growth!</span></span></em></strong></span></span><br />\n	&nbsp\;</div>\n<div style="text-align: center\;">\n	<span style="font-size:18px\;"><strong><span style="color:rgb(127\,127\,127)\;"><span style="font-family:arial narrow\,sans-serif\;">Being a Jack-Of-All-Trades is not all it&rsquo\;s cracked up to be.&nbsp\; According to a 2013 survey by Staples\, 69% of small business owners wish they could </span></span><span style="color:rgb(64\,64\,64)\;"><span style="font-family:copperplate gothic bold\,sans-serif\;">focus</span></span></strong><strong><span style="color:rgb(127\,127\,127)\;"><span style="font-family:arial narrow\,sans-serif\;"> all of their attention on their </span></span></strong><strong><span style="color:rgb(64\,64\,64)\;"><span style="font-family:copperplate gothic bold\,sans-serif\;">actual business</span></span></strong><strong><span style="color:rgb(127\,127\,127)\;"><span style="font-family:arial narrow\,sans-serif\;"> and leave daily tasks to someone else.&nbsp\; And while those tasks are important\, are they robbing you of being the </span></span></strong><strong><span style="color:rgb(64\,64\,64)\;"><span style="font-family:copperplate gothic bold\,sans-serif\;">true leader</span></span></strong><strong><span style="color:rgb(127\,127\,127)\;"><span style="font-family:arial narrow\,sans-serif\;"> you need to be? &nbsp\;Come and learn how to </span></span></strong><strong><span style="color:rgb(64\,64\,64)\;"><span style="font-family:copperplate gothic bold\,sans-serif\;">break free</span></span></strong><strong><span style="color:rgb(127\,127\,127)\;"><span style="font-family:arial narrow\,sans-serif\;"> and </span></span></strong><strong><span style="color:rgb(64\,64\,64)\;"><span style="font-family:copperplate gothic bold\,sans-serif\;">experience growth</span><span style="font-family:arial narrow\,sans-serif\;">!</span></span></strong></span><br />\n	&nbsp\;</div>\n<div style="margin-left: 80px\;">\n	<span style="font-size:16px\;"><span style="color: rgb(38\, 38\, 38)\;"><span style="font-family:symbol\;">&middot\;&nbsp\;&nbsp\;&nbsp\;&nbsp\;&nbsp\;&nbsp\; </span><span style="font-family:arial narrow\,sans-serif\;">Time-tested\, 6 Steps to moving your business to the top&hellip\;</span></span></span></div>\n<div style="margin-left: 80px\;">\n	<span style="font-size:16px\;"><span style="color:#262626\;"><span style="font-family:symbol\;">&middot\;&nbsp\;&nbsp\;&nbsp\;&nbsp\;&nbsp\;&nbsp\; </span><span style="font-family:arial narrow\,sans-serif\;">How to gain control of your TIME\, TEAM\, and MONEY&hellip\;</span></span><br />\n	<span style="color:#262626\;"><span style="font-family:symbol\;">&middot\;&nbsp\;&nbsp\;&nbsp\;&nbsp\;&nbsp\;&nbsp\; </span></span><span style="color:#262626\;"><span style="font-family:arial narrow\,sans-serif\;">How to recruit\, motivate\, and retain a team of employees&hellip\;</span></span><br />\n	<span style="color:#262626\;"><span style="font-family:symbol\;">&middot\;&nbsp\;&nbsp\;&nbsp\;&nbsp\;&nbsp\;&nbsp\; </span><span style="font-family:arial narrow\,sans-serif\;">Understand the 5 Factors critical to driving your profits&hellip\;</span></span></span><br />\n	&nbsp\;</div>\n<div style="text-align: center\;">\n	<span style="font-size:16px\;"><span style="color:#262626\;"><span style="font-family:arial narrow\,sans-serif\;">You won&#39\;t want to miss this Free Workshop. Just one idea could change your business forever!</span></span></span><br />\n	&nbsp\;</div>\n<div style="text-align: center\;">\n	<br />\n	&nbsp\;</div>\n<div style="text-align: center\;">\n	<span style="font-size:18px\;"><strong style="font-size: 18px\;"><span style="color:green\;"><span style="font-family:arial narrow\,sans-serif\;">&nbsp\; &nbsp\; &nbsp\; &nbsp\; &nbsp\; &nbsp\; &nbsp\; &nbsp\; &nbsp\; &nbsp\; &nbsp\; &nbsp\; &nbsp\; &nbsp\; &nbsp\; &nbsp\; &nbsp\; &nbsp\; &nbsp\; &nbsp\; &nbsp\; &nbsp\; &nbsp\; &nbsp\; &nbsp\; &nbsp\; &nbsp\;&nbsp\;</span></span></strong></span></div>\n
LOCATION:ActionCOACH Metro North 6575 - 141st Ave NW\, Suite 100 Ramsey\, MN
UID:e.380.148649
SEQUENCE:3
DTSTAMP:20260425T020207Z
URL:http://members.metronorthchamber.org/events/details/make-your-business-work-for-you-03-20-2013-148649
END:VEVENT

END:VCALENDAR
