BEGIN:VCALENDAR
VERSION:2.0
PRODID:-//ChamberMaster//Event Calendar 2.0//EN
METHOD:PUBLISH
X-PUBLISHED-TTL:P3D
REFRESH-INTERVAL:P3D
CALSCALE:GREGORIAN
BEGIN:VEVENT
DTSTART:20150201T220000Z
DTEND:20150202T033000Z
X-MICROSOFT-CDO-ALLDAYEVENT:FALSE
SUMMARY:Majestic Oaks Super Bowl Party
DESCRIPTION:Football Specials\n\nDine in only\n\n \n\nChoker Wings   Packer Special\n\n46 cent wings\n\nMinimum 5 per order. From preshow till end of the game\n\n \n\nBrady Burger                                                7.99\n\n10 ounce Burger Deflated to 8 ounces\n\nwith American cheese\, apple wood smoked bacon\n\nAnd a fried egg. Served with choice of Fries\n\n \n\nCheater Pickles   A New England Favorite\n\nDeep Fried Pickles                              5.99\n\nWith Chipotle Mayo\n\n \n\nSmothering Seahawks Fries\n\nLoaded Waffle Fries                           6.99\n\nMelted Cheese\, Bacon\, and Ranch Dressing
X-ALT-DESC;FMTTYPE=text/html:<strong><span style="font-size: 16pt\;">Football Specials</span></strong><br />\n<strong><span style="font-size: 16pt\;">Dine in only</span></strong><br />\n&nbsp\;<br />\n<strong>Choker Wings &ndash\; Packer Special</strong><br />\n<strong>46 cent wings</strong><br />\nMinimum 5 per order. From preshow till end of the game<br />\n&nbsp\;<br />\n<strong>Brady Burger&nbsp\;&nbsp\;&nbsp\;&nbsp\;&nbsp\;&nbsp\;&nbsp\;&nbsp\;&nbsp\;&nbsp\;&nbsp\;&nbsp\;&nbsp\;&nbsp\;&nbsp\;&nbsp\;&nbsp\;&nbsp\;&nbsp\;&nbsp\;&nbsp\;&nbsp\;&nbsp\; &nbsp\;&nbsp\;&nbsp\;&nbsp\;&nbsp\;&nbsp\;&nbsp\;&nbsp\;&nbsp\;&nbsp\;&nbsp\;&nbsp\;&nbsp\;&nbsp\;&nbsp\;&nbsp\;&nbsp\;&nbsp\;&nbsp\;&nbsp\;&nbsp\;&nbsp\;&nbsp\; 7.99</strong><br />\n10 ounce Burger Deflated to 8 ounces<br />\nwith American cheese\, apple wood smoked bacon<br />\nAnd a fried egg. Served with choice of Fries<br />\n&nbsp\;<br />\n<strong>Cheater Pickles &ndash\; A New England Favorite</strong><br />\nDeep Fried Pickles&nbsp\;&nbsp\;&nbsp\;&nbsp\;&nbsp\;&nbsp\;&nbsp\;&nbsp\;&nbsp\;&nbsp\;&nbsp\;&nbsp\;&nbsp\;&nbsp\;&nbsp\;&nbsp\;&nbsp\;&nbsp\;&nbsp\;&nbsp\;&nbsp\;&nbsp\;&nbsp\;&nbsp\;&nbsp\;&nbsp\;&nbsp\;&nbsp\;&nbsp\; 5.99<br />\nWith Chipotle Mayo<br />\n&nbsp\;<br />\n<strong>Smothering Seahawks Fries</strong><br />\nLoaded Waffle Fries&nbsp\;&nbsp\;&nbsp\;&nbsp\;&nbsp\;&nbsp\;&nbsp\;&nbsp\;&nbsp\;&nbsp\;&nbsp\;&nbsp\;&nbsp\;&nbsp\;&nbsp\;&nbsp\;&nbsp\;&nbsp\;&nbsp\;&nbsp\;&nbsp\;&nbsp\;&nbsp\;&nbsp\;&nbsp\;&nbsp\; 6.99<br />\nMelted Cheese\, Bacon\, and Ranch Dressing<br />\n&nbsp\;<br />\n&nbsp\;
LOCATION:Majestic Oaks Golf Club 701 Bunker Lake Blvd Ham Lake\, MN 55304
UID:e.380.155756
SEQUENCE:3
DTSTAMP:20260423T130716Z
URL:http://members.metronorthchamber.org/events/details/majestic-oaks-super-bowl-party-02-01-2015-155756
END:VEVENT

END:VCALENDAR
