BEGIN:VCALENDAR
VERSION:2.0
PRODID:-//ChamberMaster//Event Calendar 2.0//EN
METHOD:PUBLISH
X-PUBLISHED-TTL:P3D
REFRESH-INTERVAL:P3D
CALSCALE:GREGORIAN
BEGIN:VEVENT
DTSTART;VALUE=DATE:20150424
DTEND;VALUE=DATE:20150426
TRANSP:TRANSPARENT
X-MICROSOFT-CDO-ALLDAYEVENT:TRUE
SUMMARY:Majestic Oaks Presents The Rat Pack Revival
DESCRIPTION:Rat Pack Revival - The Rat Pack & Friends - If you like "The Rat Pack" you will love it when their friends join them for the show at the Copa! The show is an old style night club act and features over 25 hit songs from the era - including Come Fly With Me\, Everybody Loves Somebody\, Somewhere Over the Rainbow\, Candy Man\, That's Life\, Sway\, Ain't that act Kick in the Head\, New York\, New York & more.\n\n\n\nFrank Sinatra is flying out of town and stops by the Copa to let Dean Martin know the show is in his hands for the evening. Frank gives Dean explicit instructions to keep Jerry Lewis out - he is banned from the building. Jerry sneaks in of course - along with Dean's guests for the evening - Sammy Davis Jr.\, Judy Garland and Ethel Merman. When Frank's flight is cancelled\, he unexpectedly returns - with Ann-Margret - and all hell breaks loose!  Then it gets worse - as Frank discovers Jerry Lewis is in his beloved Copa and chaos takes over in the attempt to find Jerry and get him out of the club! Meanwhile\, Marilyn Monroe shows up unexpectedly and joins the show - Boop Boop Be Doop!\n\n\n\nIt's an unforgettable night at the Copa with The Rat Pack & Friends!
X-ALT-DESC;FMTTYPE=text/html:<strong><em>Rat Pack Revival - The Rat Pack &amp\; Friends</em></strong>&nbsp\;- If you like &ldquo\;The Rat Pack&rdquo\; you will love it when their friends join them for the show at the Copa! The show is an old style night club act and features over 25 hit songs from the era - including <em>Come Fly With Me\, Everybody Loves Somebody\, Somewhere Over the Rainbow\, Candy Man\, That&#39\;s Life\, Sway\, Ain&#39\;t that act Kick in the Head\, New York\, New York </em>&amp\; more.<br />\n<br />\n<strong>Frank Sinatra</strong> is flying out of town and stops by the Copa to let <strong>Dean Martin</strong> know the show is in his hands for the evening. Frank gives Dean explicit instructions to keep <strong>Jerry Lewis</strong> out - he is banned from the building. Jerry sneaks in of course - along with Dean&rsquo\;s guests for the evening - <strong>Sammy Davis Jr.</strong>\, <strong>Judy Garland</strong> and <strong>Ethel Merman</strong>. When Frank&rsquo\;s flight is cancelled\, he unexpectedly returns - with <strong>Ann-Margret - </strong>and all hell breaks loose!&nbsp\; Then it gets worse - as Frank discovers Jerry Lewis is in his beloved Copa and chaos takes over in the attempt to find Jerry and get him out of the club! Meanwhile\, <strong>Marilyn Monroe</strong> shows up unexpectedly and joins the show - Boop Boop Be Doop!<br />\n<br />\nIt&rsquo\;s an unforgettable night at the Copa with The Rat Pack &amp\; Friends!
LOCATION:Majestic Oaks Golf Club 701 Bunker Lake Blvd Ham Lake MN 55304
UID:e.380.157281
SEQUENCE:3
DTSTAMP:20260423T095549Z
URL:http://members.metronorthchamber.org/events/details/majestic-oaks-presents-the-rat-pack-revival-04-24-2015-157281
END:VEVENT

END:VCALENDAR
