BEGIN:VCALENDAR
VERSION:2.0
PRODID:-//ChamberMaster//Event Calendar 2.0//EN
METHOD:PUBLISH
X-PUBLISHED-TTL:P3D
REFRESH-INTERVAL:P3D
CALSCALE:GREGORIAN
BEGIN:VEVENT
DTSTART:20130406T150000Z
DTEND:20130406T210000Z
X-MICROSOFT-CDO-ALLDAYEVENT:FALSE
SUMMARY:Macaroni Kid Spring Business Showcase
DESCRIPTION:Join us for our first annual Spring Business Showcase!  \n\n\n\nLocal businesses will be sharing their business info & products with local families.  \n\n\n\nWe will also have some great demonstrations throughout the day as well as our usual FUN crafts and activities for kids!  More details will be announced soon.  \n\n\n\nContact me if your business would be interested in participating in our event.
X-ALT-DESC;FMTTYPE=text/html:Join us for our first annual Spring Business Showcase! &nbsp\;<br />\n<br />\nLocal businesses will be sharing their business info &amp\; products with local families. &nbsp\;<br />\n<br />\nWe will also have some great demonstrations throughout the day as well as our usual FUN crafts and activities for kids! &nbsp\;More details will be announced soon. &nbsp\;<br />\n<br />\nContact me if your business would be interested in participating in our event.&nbsp\;
LOCATION:Roosevelt Middle School - 650 Main Street NE\, Blaine
UID:e.380.148496
SEQUENCE:3
DTSTAMP:20260425T002058Z
URL:http://members.metronorthchamber.org/events/details/macaroni-kid-spring-business-showcase-04-06-2013-148496
END:VEVENT

END:VCALENDAR
