BEGIN:VCALENDAR
VERSION:2.0
PRODID:-//ChamberMaster//Event Calendar 2.0//EN
METHOD:PUBLISH
X-PUBLISHED-TTL:P3D
REFRESH-INTERVAL:P3D
CALSCALE:GREGORIAN
BEGIN:VEVENT
DTSTART:20180207T183000Z
DTEND:20180207T200000Z
X-MICROSOFT-CDO-ALLDAYEVENT:FALSE
SUMMARY:Lunch & Learn with Anita Spading.com
DESCRIPTION:It's time to prepare\, polish and perfect our introductions and presentations. During this group session\, you will polish your introduction along with prepare and execute one or more 1-minute presentations.\n\nWho should attend?\n\nAre you struggling with speaking in front of an audience? Do you fumble when introducing yourself? Do you know your products or services well enough to call yourself an expert in your industry? You will find your voice your style. Expect to improve your communication skills and earn more sales.\n\n\nIn addition to YOU\, I want to work with your team members who are the face of your company. Those people that represent your business either inside or outside in the community.\n\n\n\nRSVP and select meal by Noon on February 5\, 2017.\n\nContact Anita at 763-286-4131
X-ALT-DESC;FMTTYPE=text/html:<p style="box-sizing: border-box\; line-height: 1.7\; margin: 0px 0px 10px\; color: rgb(116\, 116\, 116)\; font-family: Roboto\; font-size: 18px\; background-color: rgb(255\, 255\, 255)\;">It&rsquo\;s time to prepare\, polish and perfect our introductions and presentations. During this group session\, you will polish your introduction along with prepare and execute one or more 1-minute presentations.</p>\n\n<p style="box-sizing: border-box\; line-height: 1.7\; margin: 0px 0px 10px\; color: rgb(116\, 116\, 116)\; font-family: Roboto\; font-size: 18px\; background-color: rgb(255\, 255\, 255)\;">Who should attend?<br style="box-sizing: border-box\;" />\nAre you struggling with speaking in front of an audience? Do you fumble when introducing yourself? Do you know your products or services well enough to call yourself an expert in your industry? You will find your voice&mdash\;your style. Expect to impro<span class="text_exposed_show" style="box-sizing: border-box\;">ve your communication skills and earn more sales.</span></p>\n\n<div class="text_exposed_show" style="box-sizing: border-box\; color: rgb(116\, 116\, 116)\; font-family: Roboto\; font-size: 18px\; background-color: rgb(255\, 255\, 255)\;">\n<p style="box-sizing: border-box\; line-height: 1.7\; margin: 0px 0px 10px\;">In addition to YOU\, I want to work with your team members who are the face of your company. Those people that represent your business either inside or outside in the community.</p>\n\n<p style="box-sizing: border-box\; line-height: 1.7\; margin: 0px 0px 10px\;"><br style="box-sizing: border-box\;" />\n<span style="box-sizing: border-box\; font-weight: 700\;">RSVP and select meal by Noon on February 5\, 2017.</span><br style="box-sizing: border-box\;" />\nContact Anita at 763-286-4131</p>\n</div>\n
LOCATION:AACOC 12 Bridge Sq # 102 Anoka\, MN 55303 United States
UID:e.380.179634
SEQUENCE:3
DTSTAMP:20260421T020952Z
URL:http://members.metronorthchamber.org/events/details/lunch-learn-with-anita-spading-com-179634
END:VEVENT

END:VCALENDAR
