BEGIN:VCALENDAR
VERSION:2.0
PRODID:-//ChamberMaster//Event Calendar 2.0//EN
METHOD:PUBLISH
X-PUBLISHED-TTL:P3D
REFRESH-INTERVAL:P3D
CALSCALE:GREGORIAN
BEGIN:VEVENT
DTSTART:20191204T180000Z
DTEND:20191204T193000Z
X-MICROSOFT-CDO-ALLDAYEVENT:FALSE
SUMMARY:Lunch & Learn: Stay Minnesota Nice AND Give Great Feedback
DESCRIPTION:Giving feedback doesn't have to be painful. In fact\, you can stay Minnesota nice AND still give great feedback to your employees.\nJoin MetroNorth Chamber Members Erin Mies and Kristen Ireland from People Spark Consulting for a lunch and learn workshop breaking down how to give feedback (and BONUS - how to make your recognition even stronger) as we head into the traditional season of performance review processes.\n\nThis session is best for business leaders managing teams of direct reports who want to learn straightforward\, practical ways to improve their feedback.\n\nSeating is very limited. Those who register after the event has filled will be placed on a wait list if openings become available.\n\n\n\nREGISTER HERE: mnnicefeedback.eventbrite.com \n\nLunch will be provided.
X-ALT-DESC;FMTTYPE=text/html:Giving feedback doesn&#39\;t have to be painful. In fact\, you can stay Minnesota nice AND still give great feedback to your employees.\n<p>Join MetroNorth Chamber Members Erin Mies and Kristen Ireland from <a href="http://peoplesparkconsulting.com">People Spark Consulting</a> for a lunch and learn workshop breaking down how to give feedback (and BONUS - how to make your recognition even stronger) as we head into the traditional season of performance review processes.</p>\n\n<p>This session is best for business leaders managing teams of direct reports who want to learn straightforward\, practical ways to improve their feedback.</p>\n\n<p>Seating is very limited. Those who register after the event has filled will be placed on a wait list if openings become available.<br />\n<br />\nREGISTER HERE:&nbsp\;<a href="https://www.eventbrite.com/e/lunch-learn-stay-minnesota-nice-and-give-great-feedback-tickets-75300841845">mnnicefeedback.eventbrite.com&nbsp\;</a></p>\n\n<p>Lunch will be provided.</p>\n
LOCATION:MetroNorth Chamber Conference Room 9380 Central Avenue Northeast\, Blaine\, MN\, 55434
UID:e.380.191447
SEQUENCE:3
DTSTAMP:20260419T161244Z
URL:http://members.metronorthchamber.org/events/details/lunch-learn-stay-minnesota-nice-and-give-great-feedback-191447
END:VEVENT

END:VCALENDAR
