BEGIN:VCALENDAR
VERSION:2.0
PRODID:-//ChamberMaster//Event Calendar 2.0//EN
METHOD:PUBLISH
X-PUBLISHED-TTL:P3D
REFRESH-INTERVAL:P3D
CALSCALE:GREGORIAN
BEGIN:VEVENT
DTSTART:20180412T170000Z
DTEND:20180412T180000Z
X-MICROSOFT-CDO-ALLDAYEVENT:FALSE
SUMMARY:Lunch & Learn Identity Theft
DESCRIPTION:With the Equifax breach\, Uber breach and now the Facebook unknowns\, Dean Hancy from PC Bits\, Meg Chiodo from Royal Credit Union\, and Sheri Erickson from LegalShield/IDShield want to help educate you on how to better protect yourself and loved ones from Identity Theft.\n\n \n\nDuring the Lunch and Learn you will learn:\n\n	What is Identity Theft?\n	How does it happen?\n	Ways to protect yourself.\n\n  \n\nPlease arrive early to enjoy pizza\, salad and beverage - and so we can start on time.\n\n \n\nPlease RSVP to Dean at service@pcbitsweb.com or Sheri at slerickson@legalshieldassociate.com if you plan to attend.  Space is limited so contact us ASAP.\n\n\n\nHope to see you there!
X-ALT-DESC;FMTTYPE=text/html:<span style="font-size:14px\;"><span style="font-family:arial\;">With the Equifax breach\, Uber breach and now the Facebook unknowns\, Dean Hancy from PC Bits\, Meg Chiodo from Royal Credit Union\, and Sheri Erickson from LegalShield/IDShield&nbsp\;want to help educate you on how to better protect yourself and loved ones from Identity Theft.<br>\n&nbsp\;<br>\nDuring the Lunch and Learn you will learn:</span></span>\n<ol>\n	<li><span style="font-size:14px\;"><span style="font-family:arial\;">What is Identity Theft?</span></span></li>\n	<li><span style="font-size:14px\;"><span style="font-family:arial\;">How does it happen?</span></span></li>\n	<li><span style="font-size:14px\;"><span style="font-family:arial\;">Ways to protect yourself.</span></span></li>\n</ol>\n<span style="font-size:14px\;"><span style="font-family:arial\;"> &nbsp\;<br>\n<strong>Please arrive early to enjoy pizza\, salad and beverage - and so we can start on time.</strong><br>\n&nbsp\;<br>\nPlease RSVP to Dean at <a href="mailto:service@pcbitsweb.com" target="_blank">service@pcbitsweb.com</a> or Sheri at <a href="mailto:slerickson@legalshieldassociate.com">slerickson@legalshieldassociate.com</a> if you plan to attend. &nbsp\;Space is limited so contact us ASAP.<br>\n<br>\nHope to see you there!</span></span>
LOCATION:MetroNorth Chamber of Commerce 9380 Central Avenue NE\, Suite 320 Blaine 55434
UID:e.380.180298
SEQUENCE:3
DTSTAMP:20260420T230622Z
URL:http://members.metronorthchamber.org/events/details/lunch-learn-identity-theft-180298
END:VEVENT

END:VCALENDAR
