BEGIN:VCALENDAR
VERSION:2.0
PRODID:-//ChamberMaster//Event Calendar 2.0//EN
METHOD:PUBLISH
X-PUBLISHED-TTL:P3D
REFRESH-INTERVAL:P3D
CALSCALE:GREGORIAN
BEGIN:VEVENT
DTSTART:20171213T180000Z
DTEND:20171213T190000Z
X-MICROSOFT-CDO-ALLDAYEVENT:FALSE
SUMMARY:Lunch & Learn ID Class
DESCRIPTION:With the recent Equifax breach and now also the Uber breach\, Dean Hancy from PC Bits and Sheri Erickson from LegalShield want to educate you on how to better protect yourself and loved ones from Identity Theft.\n\n \n\nDuring the Lunch and Learn you will learn:\n\n1.What is Identity Theft?\n\n2.How does it happen?\n\n3.Ways to protect yourself.\n\n \n\nPlease RSVP to Dean at service@pcbitsweb.com or Sheri at slerickson@legalshieldassociate.com if you plan to attend. Space is limited so contact us ASAP.\n\n\n\nHope to see you there!
X-ALT-DESC;FMTTYPE=text/html:<span style="font-family:arial\;"><span style="font-size:14px\;"><span style="color:#000000\;">With the recent Equifax breach and now also the Uber breach\, Dean Hancy from PC Bits and Sheri Erickson from LegalShield want to educate you on how to better protect yourself and loved ones from Identity Theft.</span><br />\n&nbsp\;<br />\n<span style="color:#000000\;">During the Lunch and Learn you will learn:<br />\n1.What is Identity Theft?<br />\n2.How does it happen?<br />\n3.Ways to protect yourself.</span><br />\n&nbsp\;<br />\n<span style="color:#000000\;">Please RSVP to Dean at</span> <a href="mailto:service@pcbitsweb.com" target="_blank">service@pcbitsweb.com</a><span style="color:#222222\;"> or Sheri at </span><a href="mailto:slerickson@legalshieldassociate.com">slerickson@legalshieldassociate.com</a><span style="color:#222222\;"> if you plan to attend. Space is limited so contact us ASAP.</span><br />\n<br />\n<span style="color:#222222\;">Hope to see you there!</span></span></span>
LOCATION:MetroNorth Chamber of Commerce 9380 Central Avenue NE\, Suite 320 Blaine 55434
UID:e.380.179330
SEQUENCE:3
DTSTAMP:20260421T050509Z
URL:http://members.metronorthchamber.org/events/details/lunch-learn-id-class-179330
END:VEVENT

END:VCALENDAR
