BEGIN:VCALENDAR
VERSION:2.0
PRODID:-//ChamberMaster//Event Calendar 2.0//EN
METHOD:PUBLISH
X-PUBLISHED-TTL:P3D
REFRESH-INTERVAL:P3D
CALSCALE:GREGORIAN
BEGIN:VEVENT
DTSTART:20160623T173000Z
DTEND:20160623T183000Z
X-MICROSOFT-CDO-ALLDAYEVENT:FALSE
SUMMARY:Lunch & Learn-Empowered Health
DESCRIPTION:What's your gut telling you?\n\n\n\nHave you been listening to your gut lately? Does bloating\, skin issue\, low energy\, PMS and food craving sound familiar to you? Join us for a lunch & learn about how your digestive system is affecting your overall health.
X-ALT-DESC;FMTTYPE=text/html:<span style="font-size:14px\;"><span style="font-family:arial\;">What&#39\;s your gut telling you?<br />\n<br />\nHave you been listening to your gut lately? Does bloating\, skin issue\, low energy\, PMS and food craving sound familiar to you? Join us for a lunch &amp\; learn about how your digestive system is affecting your overall health.</span></span><br />\n<br />\n&nbsp\;
LOCATION:MetroNorth Chamber of Commerce 9380 Central Avenue NE\, Suite 320 Blaine\, MN 55434
UID:e.380.168461
SEQUENCE:3
DTSTAMP:20260422T102535Z
URL:http://members.metronorthchamber.org/events/details/lunch-learn-empowered-health-06-23-2016-168461
END:VEVENT

END:VCALENDAR
