BEGIN:VCALENDAR
VERSION:2.0
PRODID:-//ChamberMaster//Event Calendar 2.0//EN
METHOD:PUBLISH
X-PUBLISHED-TTL:P3D
REFRESH-INTERVAL:P3D
CALSCALE:GREGORIAN
BEGIN:VEVENT
DTSTART:20160517T173000Z
DTEND:20160517T183000Z
X-MICROSOFT-CDO-ALLDAYEVENT:FALSE
SUMMARY:Lunch & Learn-Empowered Health
DESCRIPTION:Join us for a lunch & learn about all things women! We'll talk about pms\, headaches\, perimenopause\, menopause\, nutrition and lots more. Come find out how you can empower yourself towards a fuller\, more healthy life. Invite your family and friends!
X-ALT-DESC;FMTTYPE=text/html:Join us for a lunch &amp\; learn about all things women! We&#39\;ll talk about pms\, headaches\,&nbsp\;perimenopause\, menopause\, nutrition and lots more. Come find out how you can empower yourself towards a fuller\, more healthy life. Invite your family and friends!
LOCATION:MetroNorth Chamber of Commerce 9380 Central Avenue NE\, Suite 320 Blaine\, MN 55434
UID:e.380.167422
SEQUENCE:3
DTSTAMP:20260422T120252Z
URL:http://members.metronorthchamber.org/events/details/lunch-learn-empowered-health-05-17-2016-167422
END:VEVENT

END:VCALENDAR
