BEGIN:VCALENDAR
VERSION:2.0
PRODID:-//ChamberMaster//Event Calendar 2.0//EN
METHOD:PUBLISH
X-PUBLISHED-TTL:P3D
REFRESH-INTERVAL:P3D
CALSCALE:GREGORIAN
BEGIN:VEVENT
DTSTART:20130808T220000Z
DTEND:20130809T000000Z
X-MICROSOFT-CDO-ALLDAYEVENT:FALSE
SUMMARY:LUAU GONE WILD! Membership Appreciation Party
DESCRIPTION:LUAU GONE WILD! \n\nThursday\, August 8\n\n5 pm\, Majestic Oaks\n\n$5 per member\, members only!\n\n \n\nAs a THANK YOU for your commitment to MetroNorth\, please join us for this appreciation party\, which includes a fabulous luau-themed dinner\, games & prizes. Don't forget to wear your LOUDEST Hawaiian shirt!\n\n \n\nStay afterwards for our 4th Annual GLOW GOLF event. ($30\, includes cart\, 9 holes of golf\, & a glow in the dark golf ball.) Sign up individually or as a foursome...no golf skills necessary! And back by popular demand  Glow Golf Hole Sponsorships! Show that you're a leader in innovative marketing & join us out on the course for a night full of fun!
X-ALT-DESC;FMTTYPE=text/html:<span style="font-family: tahoma"><span style="font-size: 12px"><strong>LUAU GONE WILD! </strong><br />\n<span data-term="goog_370738171" tabindex="0">Thursday\, August 8</span><br />\n<span data-term="goog_370738172" tabindex="0">5 pm</span>\, Majestic Oaks<br />\n$5 per member\, members only!<br />\n&nbsp\;<br />\nAs a THANK YOU for your commitment to MetroNorth\, please join us for this appreciation party\, which includes a fabulous luau-themed dinner\, games &amp\; prizes. Don&rsquo\;t forget to wear your LOUDEST Hawaiian shirt!<br />\n&nbsp\;<br />\nStay afterwards for our 4<sup>th</sup> Annual GLOW GOLF event. ($30\, includes cart\, 9 holes of golf\, &amp\; a glow in the dark golf ball.) Sign up individually or as a foursome...no golf skills necessary! And back by popular demand&hellip\; Glow Golf Hole Sponsorships! Show that you&rsquo\;re a leader in innovative marketing &amp\; join us out on the course for a night full of fun! </span></span><br />\n
LOCATION:Majestic Oaks 701 Bunker Lake Blvd. Ham Lake\, MN 55304
UID:e.380.149280
SEQUENCE:3
DTSTAMP:20260424T180635Z
URL:http://members.metronorthchamber.org/events/details/luau-gone-wild-membership-appreciation-party-08-08-2013-149280
END:VEVENT

END:VCALENDAR
