BEGIN:VCALENDAR
VERSION:2.0
PRODID:-//ChamberMaster//Event Calendar 2.0//EN
METHOD:PUBLISH
X-PUBLISHED-TTL:P3D
REFRESH-INTERVAL:P3D
CALSCALE:GREGORIAN
BEGIN:VEVENT
DTSTART:20160809T184500Z
DTEND:20160809T191500Z
X-MICROSOFT-CDO-ALLDAYEVENT:FALSE
SUMMARY:Lori/Ross - Board orientation
DESCRIPTION:
X-ALT-DESC;FMTTYPE=text/html:
LOCATION:
UID:e.380.169137
SEQUENCE:3
DTSTAMP:20260422T071407Z
URL:http://members.metronorthchamber.org/events/details/lori-ross-board-orientation-08-09-2016-169137
END:VEVENT

END:VCALENDAR
