BEGIN:VCALENDAR
VERSION:2.0
PRODID:-//ChamberMaster//Event Calendar 2.0//EN
METHOD:PUBLISH
X-PUBLISHED-TTL:P3D
REFRESH-INTERVAL:P3D
CALSCALE:GREGORIAN
BEGIN:VEVENT
DTSTART:20190814T180000Z
DTEND:20190814T183000Z
X-MICROSOFT-CDO-ALLDAYEVENT:FALSE
SUMMARY:Lori & Mitchell Grow Calls
DESCRIPTION:
X-ALT-DESC;FMTTYPE=text/html:
LOCATION:
UID:e.380.190996
SEQUENCE:3
DTSTAMP:20260419T212721Z
URL:http://members.metronorthchamber.org/events/details/lori-mitchell-grow-calls-190996
END:VEVENT

END:VCALENDAR
