BEGIN:VCALENDAR
VERSION:2.0
PRODID:-//ChamberMaster//Event Calendar 2.0//EN
METHOD:PUBLISH
X-PUBLISHED-TTL:P3D
REFRESH-INTERVAL:P3D
CALSCALE:GREGORIAN
BEGIN:VEVENT
DTSTART:20130618T140000Z
DTEND:20130618T150000Z
X-MICROSOFT-CDO-ALLDAYEVENT:FALSE
SUMMARY:Lori meeting with Cody
DESCRIPTION:
X-ALT-DESC;FMTTYPE=text/html:
LOCATION:
UID:e.380.149113
SEQUENCE:3
DTSTAMP:20260424T210504Z
URL:http://members.metronorthchamber.org/events/details/lori-meeting-with-cody-06-18-2013-149113
END:VEVENT

END:VCALENDAR
