BEGIN:VCALENDAR
VERSION:2.0
PRODID:-//ChamberMaster//Event Calendar 2.0//EN
METHOD:PUBLISH
X-PUBLISHED-TTL:P3D
REFRESH-INTERVAL:P3D
CALSCALE:GREGORIAN
BEGIN:VEVENT
DTSTART:20170801T130000Z
DTEND:20170801T140000Z
X-MICROSOFT-CDO-ALLDAYEVENT:FALSE
SUMMARY:Lori/Lea - conf room
DESCRIPTION:
X-ALT-DESC;FMTTYPE=text/html:
LOCATION:
UID:e.380.176459
SEQUENCE:3
DTSTAMP:20260421T123818Z
URL:http://members.metronorthchamber.org/events/details/lori-lea-conf-room-176459
END:VEVENT

END:VCALENDAR
