BEGIN:VCALENDAR
VERSION:2.0
PRODID:-//ChamberMaster//Event Calendar 2.0//EN
METHOD:PUBLISH
X-PUBLISHED-TTL:P3D
REFRESH-INTERVAL:P3D
CALSCALE:GREGORIAN
BEGIN:VEVENT
DTSTART:20130322T190000Z
DTEND:20130322T193000Z
X-MICROSOFT-CDO-ALLDAYEVENT:FALSE
SUMMARY:Lori call Lori Bestler\, 2 pm
DESCRIPTION:
X-ALT-DESC;FMTTYPE=text/html:
LOCATION:
UID:e.380.148703
SEQUENCE:3
DTSTAMP:20260425T020013Z
URL:http://members.metronorthchamber.org/events/details/lori-call-lori-bestler-2-pm-03-22-2013-148703
END:VEVENT

END:VCALENDAR
