BEGIN:VCALENDAR
VERSION:2.0
PRODID:-//ChamberMaster//Event Calendar 2.0//EN
METHOD:PUBLISH
X-PUBLISHED-TTL:P3D
REFRESH-INTERVAL:P3D
CALSCALE:GREGORIAN
BEGIN:VEVENT
DTSTART:20160518T000000Z
DTEND:20160518T020000Z
X-MICROSOFT-CDO-ALLDAYEVENT:FALSE
SUMMARY:Live Racing Returns to Running Aces
DESCRIPTION:Live Harness Racing is back at Running Aces for another season. Watch and Wager as we bring you entertainment as only Live Racing can. As always admission is free. Let us be your destination for fun.
X-ALT-DESC;FMTTYPE=text/html:Live Harness Racing is back at Running Aces for another season. Watch and Wager as we bring you entertainment as only Live Racing can. As always admission is free. Let us be your destination for fun. &nbsp\;
LOCATION:Running Aces Casino & Racetrack
UID:e.380.167415
SEQUENCE:3
DTSTAMP:20260422T120446Z
URL:http://members.metronorthchamber.org/events/details/live-racing-returns-to-running-aces-05-17-2016-167415
END:VEVENT

END:VCALENDAR
