BEGIN:VCALENDAR
VERSION:2.0
PRODID:-//ChamberMaster//Event Calendar 2.0//EN
METHOD:PUBLISH
X-PUBLISHED-TTL:P3D
REFRESH-INTERVAL:P3D
CALSCALE:GREGORIAN
BEGIN:VEVENT
DTSTART:20190303T020000Z
DTEND:20190303T055500Z
X-MICROSOFT-CDO-ALLDAYEVENT:FALSE
SUMMARY:Live Music Saturdays
DESCRIPTION:Music\, dancing\, and gaming every Saturday night.
X-ALT-DESC;FMTTYPE=text/html:<p><span style="color:rgb(51\, 51\, 51)\; font-family:helvetica\,sans-serif\; font-size:9pt"><span style="color:rgb(51\, 51\, 51)\; font-family:helvetica\,sans-serif\; font-size:9pt">Music\, dancing\, and gaming every Saturday night.</span></span></p>\n
LOCATION:Running Aces Casino and Racetrack
UID:e.380.187023
SEQUENCE:3
DTSTAMP:20260420T073906Z
URL:http://members.metronorthchamber.org/events/details/live-music-saturdays-03-02-2019-187023
END:VEVENT

END:VCALENDAR
