BEGIN:VCALENDAR
VERSION:2.0
PRODID:-//ChamberMaster//Event Calendar 2.0//EN
METHOD:PUBLISH
X-PUBLISHED-TTL:P3D
REFRESH-INTERVAL:P3D
CALSCALE:GREGORIAN
BEGIN:VEVENT
DTSTART:20120211T010000Z
DTEND:20120211T020000Z
X-MICROSOFT-CDO-ALLDAYEVENT:FALSE
SUMMARY:Live Life to the Plus+
DESCRIPTION:Join us to hear how you can start living a healthy lifestyle featuring:\n\n\n\nFRANK EGGLESTON\, D.D.S. is a well-known lecturer speaking throughout Texas and the nation on health and nutrition. He has been a preventative and restorative dentist for over 30 years. He served as President of the 7\,100 member Texas Dental Association in 1994 and was Texas's "Dentist of the Year' in 1995. He was the 1996 recipient of The Distinguished Service Award in Texas Dentistry. Dr. Eggleston also served on the American Dental Association Board of Trustees from 1999 to 2003. Dr. Eggleston is a native Houstonian and a lifetime student of nutrition.\n\n\n\nClick here to download a copy of the flyer.
X-ALT-DESC;FMTTYPE=text/html:<strong><span style="font-size: 10px\;"><span style="font-family: tahoma\;">Join us to hear how you can start living a healthy lifestyle featuring:</span></span></strong><br />\n<br />\n<span style="font-size:10px\;"><span style="font-family: tahoma\;">FRANK EGGLESTON\, D.D.S. is a well-known lecturer speaking throughout Texas and the nation on health and nutrition. He has been a preventative and restorative dentist for over 30 years. He served as President of the 7\,100 member Texas Dental Association in 1994 and was Texas&rsquo\;s &ldquo\;Dentist of the Year&rsquo\; in 1995. He was the 1996 recipient of The Distinguished Service Award in Texas Dentistry. Dr. Eggleston also served on the American Dental Association Board of Trustees from 1999 to 2003. Dr. Eggleston is a native Houstonian and a lifetime student of nutrition.<br />\n<br />\nClick <a href="http://cloud.chambermaster.com/userfiles/UserFiles/chambers/380/File/FlyerDrFrankEgglestonDDS2-10-12LakeElmo.pdf">here</a> to download a copy of the flyer.</span></span>
LOCATION:The Wildwood Lodge 8511 Hudson Blvd Lake Elmo\, MN 55042
UID:e.380.143316
SEQUENCE:3
DTSTAMP:20260425T225444Z
URL:http://members.metronorthchamber.org/events/details/live-life-to-the-plus-02-10-2012-143316
END:VEVENT

END:VCALENDAR
