BEGIN:VCALENDAR
VERSION:2.0
PRODID:-//ChamberMaster//Event Calendar 2.0//EN
METHOD:PUBLISH
X-PUBLISHED-TTL:P3D
REFRESH-INTERVAL:P3D
CALSCALE:GREGORIAN
BEGIN:VEVENT
DTSTART:20190330T010000Z
DTEND:20190330T045500Z
X-MICROSOFT-CDO-ALLDAYEVENT:FALSE
SUMMARY:Live DJ Fridays
DESCRIPTION:Music\, dancing\, and gaming every Friday with DJ "The Party Guy"
X-ALT-DESC;FMTTYPE=text/html:<p><span style="color:rgb(51\, 51\, 51)\; font-family:helvetica\,sans-serif\; font-size:9pt">Music\, dancing\, and gaming every Friday with DJ &quot\;The Party Guy&quot\;</span></p>\n
LOCATION:Running Aces Casino and Racetrack
UID:e.380.186998
SEQUENCE:3
DTSTAMP:20260420T060529Z
URL:http://members.metronorthchamber.org/events/details/live-dj-fridays-03-29-2019-186998
END:VEVENT

END:VCALENDAR
