BEGIN:VCALENDAR
VERSION:2.0
PRODID:-//ChamberMaster//Event Calendar 2.0//EN
METHOD:PUBLISH
X-PUBLISHED-TTL:P3D
REFRESH-INTERVAL:P3D
CALSCALE:GREGORIAN
BEGIN:VEVENT
DTSTART:20151103T150000Z
DTEND:20151103T163000Z
X-MICROSOFT-CDO-ALLDAYEVENT:FALSE
SUMMARY:LinkedIn Training
DESCRIPTION:CREATING AN ACCOUNT ON LINKEDIN IS EASY.\n\nMAKING IT WORK FOR YOU TO MARKET YOU AND YOUR BUSINESS DOESN'T HAVE TO BE COMPLICATED.\n\n\nLinkedIn Training will help you create a profile that stands out\, actually attracts connections to you who want to learn more about you and your business. Register Here.\n\nMetro North Chamber Members - Use Coupon Code MNCC to save 15% on registration!\n\n \n\n\nHave you ever asked:\n\n  How Can I Make LinkedIn Work For Me?\n\n  How Can I Achieve More Valuable LinkedIn Connections?\n\n  Why Doesn't My LinkedIn Profile Show Up In Internet Searches?\n\n  How Can I Better Market Myself or My Company?\n\nTopics Covered:\n\n  Introduction to LinkedIn\n\n  Understand the LinkedIn Methodology\n\n  How To Create An "All-Star" Profile\n\n  Grow and Foster Audience Relationships\n\n  Market Yourself & Your Business\n\n  Conversations & Status Updates\n\n  Understand Groups & Company Pages\n\n \n\nEVERY ATTENDEE RECEIVES A 60-DAY REPORT CARD SUMMARY OF HOW WELL YOU'VE DONE!
X-ALT-DESC;FMTTYPE=text/html:<h3 style="text-align:center">CREATING AN ACCOUNT ON LINKEDIN IS EASY.</h3>\n\n<h4 style="text-align:center">MAKING IT WORK FOR YOU TO MARKET YOU AND YOUR BUSINESS DOESN&rsquo\;T HAVE TO BE COMPLICATED.</h4>\n\n<hr />\n<p>LinkedIn Training will help you create a profile that stands out\, actually attracts connections to you who want to learn more about you and your business. <a href="http://teachmesocialmedia.net/events/linkedin-training/" target="_blank">Register Here</a>.</p>\n\n<p style="text-align:center"><span style="font-size:14px"><span style="color:#696969"><strong><span style="font-size:16px">Metro North Chamber Members - Use Coupon Code MNCC to save 15% on registration!</span></strong></span></span><br />\n&nbsp\;</p>\n\n<hr />\n<p><strong>Have you ever asked</strong>:</p>\n\n<p style="margin-left:40px">&bull\; How Can I Make LinkedIn Work For Me?</p>\n\n<p style="margin-left:40px">&bull\; How Can I Achieve More Valuable LinkedIn Connections?</p>\n\n<p style="margin-left:40px">&bull\; Why Doesn&rsquo\;t My LinkedIn Profile Show Up In Internet Searches?</p>\n\n<p style="margin-left:40px">&bull\; How Can I Better Market Myself or My Company?</p>\n\n<p><strong>Topics Covered</strong>:</p>\n\n<p style="margin-left:40px">&bull\;&nbsp\;Introduction to LinkedIn</p>\n\n<p style="margin-left:40px">&bull\;&nbsp\;Understand the LinkedIn Methodology</p>\n\n<p style="margin-left:40px">&bull\;&nbsp\;How To Create An &ldquo\;All-Star&rdquo\; Profile</p>\n\n<p style="margin-left:40px">&bull\; Grow and Foster Audience Relationships</p>\n\n<p style="margin-left:40px">&bull\;&nbsp\;Market Yourself &amp\; Your Business</p>\n\n<p style="margin-left:40px">&bull\;&nbsp\;Conversations &amp\; Status Updates</p>\n\n<p style="margin-left:40px">&bull\;&nbsp\;Understand Groups &amp\; Company Pages<br />\n&nbsp\;</p>\n\n<h3 style="text-align:center"><span style="color:rgb(128\, 128\, 128)"><strong>EVERY ATTENDEE RECEIVES A 60-DAY REPORT CARD SUMMARY OF HOW WELL YOU&rsquo\;VE DONE</strong><strong>!</strong></span></h3>\n
LOCATION:Rasmussen College | Blaine Campus
UID:e.380.159579
SEQUENCE:3
DTSTAMP:20260422T221605Z
URL:http://members.metronorthchamber.org/events/details/linkedin-training-11-03-2015-159579
END:VEVENT

END:VCALENDAR
