BEGIN:VCALENDAR
VERSION:2.0
PRODID:-//ChamberMaster//Event Calendar 2.0//EN
METHOD:PUBLISH
X-PUBLISHED-TTL:P3D
REFRESH-INTERVAL:P3D
CALSCALE:GREGORIAN
BEGIN:VEVENT
DTSTART:20190911T170000Z
DTEND:20190911T180000Z
X-MICROSOFT-CDO-ALLDAYEVENT:FALSE
SUMMARY:Life Sharing Lunch and Learn
DESCRIPTION:What is Life Sharing?\n\nLife Sharing programs are an innovative\, independent option for community living for people with an intellectual and developmental disability. Bethesda matches people in the community who are interested in opening their home and sharing life experiences with a person with disabilities.\n\nHow does it work?\n\nBethesda matches people in the community who are interested in opening their home and sharing life experiences with a person with disabilities.\n\nHow can you learn more?\n\nJoin us at our upcoming information session to learn more about Bethesda's Life Sharing Program and the support we offer to both the provider and individual.
X-ALT-DESC;FMTTYPE=text/html:<p><u><strong>What is Life Sharing?</strong></u></p>\n\n<p>Life Sharing programs are an innovative\, independent option for community living for people with an intellectual and developmental disability. Bethesda matches people in the community who are interested in opening their home and sharing life experiences with a person with disabilities.</p>\n\n<p><u><strong>How does it work?</strong></u></p>\n\n<p>Bethesda matches people in the community who are interested in opening their home and sharing life experiences with a person with disabilities.</p>\n\n<p><u><strong>How can you learn more?</strong></u></p>\n\n<p>Join us at our upcoming information session to learn more about Bethesda&rsquo\;s Life Sharing Program and the support we offer to both the provider and individual.</p>\n
LOCATION:Location: Rasmussen College-Bloomington Campus (Room 612) Address: 4400 W. 78th St. 6th Floor\, Bloomington MN 55435
UID:e.380.190980
SEQUENCE:3
DTSTAMP:20260419T192837Z
URL:http://members.metronorthchamber.org/events/details/life-sharing-lunch-and-learn-190980
END:VEVENT

END:VCALENDAR
