BEGIN:VCALENDAR
VERSION:2.0
PRODID:-//ChamberMaster//Event Calendar 2.0//EN
METHOD:PUBLISH
X-PUBLISHED-TTL:P3D
REFRESH-INTERVAL:P3D
CALSCALE:GREGORIAN
BEGIN:VEVENT
DTSTART:20190814T233000Z
DTEND:20190815T003000Z
X-MICROSOFT-CDO-ALLDAYEVENT:FALSE
SUMMARY:Life Sharing Information Meeting
DESCRIPTION:What is Life Sharing?\n\nLife Sharing programs are an innovative\, independent option for community living for people with an intellectual and developmental disability. Bethesda matches people in the community who are interested in opening their home and sharing life experiences with a person with disabilities.\n\nHow does it work?\n\nBethesda matches people in the community who are interested in opening their home and sharing life experiences with a person with disabilities.\n\nHow can you learn more?\n\nJoin us at our upcoming information session to learn more about Bethesda's Life Sharing Program and the support we offer to both the provider and individual.
X-ALT-DESC;FMTTYPE=text/html:<p><u><strong>What is Life Sharing?</strong></u></p>\n\n<p>Life Sharing programs are an innovative\, independent option for community living for people with an intellectual and developmental disability. Bethesda matches people in the community who are interested in opening their home and sharing life experiences with a person with disabilities.</p>\n\n<p><u><strong>How does it work?</strong></u></p>\n\n<p>Bethesda matches people in the community who are interested in opening their home and sharing life experiences with a person with disabilities.</p>\n\n<p><u><strong>How can you learn more?</strong></u></p>\n\n<p>Join us at our upcoming information session to learn more about Bethesda&rsquo\;s Life Sharing Program and the support we offer to both the provider and individual.</p>\n
LOCATION:St. David's Episcopal Church\, Undercroft Room 13000 St. David's Road\, Minnetonka\, MN 55305
UID:e.380.190979
SEQUENCE:3
DTSTAMP:20260419T212721Z
URL:http://members.metronorthchamber.org/events/details/life-sharing-information-meeting-190979
END:VEVENT

END:VCALENDAR
