BEGIN:VCALENDAR
VERSION:2.0
PRODID:-//ChamberMaster//Event Calendar 2.0//EN
METHOD:PUBLISH
X-PUBLISHED-TTL:P3D
REFRESH-INTERVAL:P3D
CALSCALE:GREGORIAN
BEGIN:VEVENT
DTSTART:20150604T140000Z
DTEND:20150606T220000Z
X-MICROSOFT-CDO-ALLDAYEVENT:FALSE
SUMMARY:Life Prep Academy Garage Sale & Plant Sale Fundraiser
DESCRIPTION:Life Prep Academy is participating in Spring Lake Park's Tower Days with a garage sale June 4-6.  All proceeds will benefit LPA programming.
X-ALT-DESC;FMTTYPE=text/html:Life Prep Academy is participating in Spring Lake Park&#39\;s Tower Days with a garage sale June 4-6.&nbsp\; All proceeds will benefit LPA programming.<br />\n&nbsp\;
LOCATION:1628 County Highway 10 NE\, SLP 55432
UID:e.380.157774
SEQUENCE:3
DTSTAMP:20260423T084901Z
URL:http://members.metronorthchamber.org/events/details/life-prep-academy-garage-sale-plant-sale-fundraiser-06-04-2015-157774
END:VEVENT

END:VCALENDAR
