BEGIN:VCALENDAR
VERSION:2.0
PRODID:-//ChamberMaster//Event Calendar 2.0//EN
METHOD:PUBLISH
X-PUBLISHED-TTL:P3D
REFRESH-INTERVAL:P3D
CALSCALE:GREGORIAN
BEGIN:VEVENT
DTSTART:20171003T230000Z
DTEND:20171004T010000Z
X-MICROSOFT-CDO-ALLDAYEVENT:FALSE
SUMMARY:Life Prep Academy Dorm Fundraiser
DESCRIPTION:YOU'RE INVITED!!!!\n\nWHAT: a fundraiser to provide housing for the students of \n\n          Life Prep Academy\n\nWHEN:  Tuesday\, October 3rd\n\n                6:00-8:00 pm\n\nWHERE:  The Mermaid in Mounds View\, Coral Bay Ballroom\n\nGUEST SPEAKER:  Howard Root\n\nHoward Root is the recently retired Chief Executive Officer of Vascular Solutions\, Inc.\, a company he founded in 1997 to develop a physician's idea into a commercial medical device. Howard led Vascular Solutions continuously for 20 years\, through its IPO in 2000 and growth into a 100-product worldwide medical device business with over 650 employees. Howard is listed on 21 of Vascular Solutions' U.S. patents and is the inventor of the company's top-selling GuideLiner catheter. In February 2017\, Howard sold Vascular Solutions to Teleflex Medical for $1 billion. The motivation behind the company's sale and Howard's voluntary early retirement at age 56 is a true-life legal nightmare that is detailed in Howard's new book: Cardiac Arrest: Five Heart-Stopping Years as a CEO on the Feds' Hit-List.\n\n \n\nCome learn about Life Prep Academy and the great program we have for homeless and at-risk teens.  Explore ways that you can get involved!\n\n \n\nThe event is FREE\, but there will be several opportunities to support Life Prep Academy!\n\nAppetizers and desserts will be served  \n\n**Questions and RSVP to 763-203-2015\, or pam@lifeprepacademymn.com**
X-ALT-DESC;FMTTYPE=text/html:<span style="background:yellow\;"><span style="font-size:16.0pt\;">YOU&rsquo\;RE INVITED!!!!</span></span><br />\n<strong><u><span style="font-size:16.0pt\;">WHAT</span></u></strong>: <span style="color:#C00000\;"><span style="font-size:14.0pt\;">a fundraiser to provide housing for the students of</span></span>&nbsp\;<br />\n&nbsp\;&nbsp\;&nbsp\;&nbsp\;&nbsp\;&nbsp\;&nbsp\;&nbsp\;&nbsp\; <strong><span style="color:#7030A0\;"><span style="font-family:lucida handwriting\;"><span style="font-size:34.0pt\;">Life Prep Academy</span></span></span></strong><br />\n<strong><u><span style="font-family:century\,serif\;"><span style="font-size:14.0pt\;">WHEN</span></span></u></strong><span style="font-family:century\,serif\;"><span style="font-size:14.0pt\;">:&nbsp\; </span></span><span style="color:#C00000\;"><span style="font-family:century\,serif\;"><span style="font-size:14.0pt\;">Tuesday\, October 3rd</span></span></span><br />\n<span style="color:#C00000\;"><span style="font-family:century\,serif\;"><span style="font-size:14.0pt\;">&nbsp\;&nbsp\;&nbsp\;&nbsp\;&nbsp\;&nbsp\;&nbsp\;&nbsp\;&nbsp\;&nbsp\;&nbsp\;&nbsp\;&nbsp\;&nbsp\;&nbsp\; 6:00-8:00 pm</span></span></span><br />\n<strong><u><span style="font-family:century\,serif\;"><span style="font-size:14.0pt\;">WHERE</span></span></u></strong><span style="font-family:century\,serif\;"><span style="font-size:14.0pt\;">:&nbsp\; </span></span><span style="color:#C00000\;"><span style="font-family:century\,serif\;"><span style="font-size:14.0pt\;">The Mermaid in Mounds View\, Coral Bay Ballroom</span></span></span><br />\n<strong><u><span style="color:windowtext\;"><span style="font-family:century\,serif\;"><span style="font-size:14.0pt\;">GUEST SPEAKER:</span></span></span></u></strong>&nbsp\; <strong><span style="color:#C00000\;"><span style="font-family:century\,serif\;"><span style="font-size:14.0pt\;">Howard Root</span></span></span></strong><br />\n<strong><span style="font-size:12.0pt\;">Howard Root</span></strong><span style="font-size:12.0pt\;"> is the recently retired Chief Executive Officer of Vascular Solutions\, Inc.\, a company he founded in 1997 to develop a physician&rsquo\;s idea into a commercial medical device. Howard led Vascular Solutions continuously for 20 years\, through its IPO in 2000 and growth into a 100-product worldwide medical device business with over 650 employees. Howard is listed on 21 of Vascular Solutions&rsquo\; U.S. patents and is the inventor of the company&rsquo\;s top-selling GuideLiner catheter. In February 2017\, Howard sold Vascular Solutions to Teleflex Medical for $1 billion. The motivation behind the company&rsquo\;s sale and Howard&rsquo\;s voluntary early retirement at age 56 is a true-life legal nightmare that is detailed in Howard&rsquo\;s new book: <em>Cardiac Arrest: Five Heart-Stopping Years as a CEO on the Feds&rsquo\; Hit-List</em>.</span><br />\n&nbsp\;<br />\n<span style="background:yellow\;"><span style="font-family:century\,serif\;"><span style="font-size:14.0pt\;">Come learn about Life Prep Academy and the great program we have for homeless and at-risk teens.&nbsp\; Explore ways that you can get involved!</span></span></span><br />\n&nbsp\;<br />\n<span style="color:windowtext\;"><span style="font-family:century\,serif\;"><span style="font-size:16.0pt\;">The event is <em>FREE</em>\, but there will be several opportunities to support </span></span></span><strong><span style="color:#7030A0\;"><span style="font-family:lucida calligraphy\;"><span style="font-size:16.0pt\;">Life Prep Academy</span></span></span></strong><span style="color:windowtext\;"><span style="font-family:century\,serif\;"><span style="font-size:16.0pt\;">!</span></span></span><br />\n<span style="color:windowtext\;"><span style="font-family:century\,serif\;"><span style="font-size:12.0pt\;">Appetizers and desserts will be served </span></span></span><span style="color:windowtext\;"><span style="font-family:segoe ui emoji\,sans-serif\;"><span style="font-size:12.0pt\;">&#128522\;</span></span></span><br />\n<span style="color:red\;"><span style="font-family:century\,serif\;"><span style="font-size:14.0pt\;">**Questions and RSVP to 763-203-2015\, or </span></span></span><span style="color:black\;"><span style="font-family:calibri\,sans-serif\;"><span style="font-size:10.0pt\;"><a href="mailto:pam@lifeprepacademymn.com**"><span style="text-decoration-line:none\;"><span style="color:red\;"><span style="font-family:century\,serif\;"><span style="font-size:14pt\;">pam@lifeprepacademymn.com**</span></span></span></span></a></span></span></span>
LOCATION:The Mermaid 2200 Mounds View Blvd Mounds View\, MN 55112 *Coral Bay Ballroom*
UID:e.380.176963
SEQUENCE:3
DTSTAMP:20260421T084140Z
URL:http://members.metronorthchamber.org/events/details/life-prep-academy-dorm-fundraiser-176963
END:VEVENT

END:VCALENDAR
