BEGIN:VCALENDAR
VERSION:2.0
PRODID:-//ChamberMaster//Event Calendar 2.0//EN
METHOD:PUBLISH
X-PUBLISHED-TTL:P3D
REFRESH-INTERVAL:P3D
CALSCALE:GREGORIAN
BEGIN:VEVENT
DTSTART:20150331T233000Z
DTEND:20150401T010000Z
X-MICROSOFT-CDO-ALLDAYEVENT:FALSE
SUMMARY:Life Prep Academy Dinner & Silent Auction
DESCRIPTION:Join us for our annual Life Prep Academy Dinner & Silent Auction\, Tuesday\, March 31st\, 6:30-8:00.  Dine\, mingle\, and bid on items from 6:30-7:30.  At 7:30\, hear about Life Prep Academy and all that has happened in the last year!  Donations are tax deductible!\n\nIf you have any items you'd like to donate for the silent auction\, it would be greatly appreciated!
X-ALT-DESC;FMTTYPE=text/html:Join us for our annual Life Prep Academy Dinner&nbsp\;&amp\; Silent Auction\, Tuesday\, March 31st\, 6:30-8:00.&nbsp\; Dine\, mingle\, and bid on items from 6:30-7:30.&nbsp\; At 7:30\, hear about Life Prep Academy and all that has happened in the last year!&nbsp\; Donations are tax deductible!<br />\nIf you have any items you&#39\;d like to donate for the silent auction\, it would be greatly appreciated!
LOCATION:Moe's Restaurant\, Mounds View
UID:e.380.157232
SEQUENCE:3
DTSTAMP:20260423T111712Z
URL:http://members.metronorthchamber.org/events/details/life-prep-academy-dinner-silent-auction-03-31-2015-157232
END:VEVENT

END:VCALENDAR
