BEGIN:VCALENDAR
VERSION:2.0
PRODID:-//ChamberMaster//Event Calendar 2.0//EN
METHOD:PUBLISH
X-PUBLISHED-TTL:P3D
REFRESH-INTERVAL:P3D
CALSCALE:GREGORIAN
BEGIN:VEVENT
DTSTART:20140319T163000Z
DTEND:20140319T173000Z
X-MICROSOFT-CDO-ALLDAYEVENT:FALSE
SUMMARY:Leveraging Time - Lunch & Learn by Emerald Bay Performance
DESCRIPTION:Leveraging Time Lunch & Learn\n\n Whether you are a part of a small firm or a Fortune 500 company\, today's workplace requires managing\, motivating and developing your employees' time management skills. Increasing and enhancing your current time management leadership ability is paramount to your organization's success. \n\nIn this module managers will be able to: \n\n  Model time-wise leadership. \n\n  Manage leadership time. \n\n  Use timesaving communication tips. \n\n  Enhance time management leadership skills.
X-ALT-DESC;FMTTYPE=text/html:Leveraging Time Lunch &amp\; Learn<br />\n&nbsp\;<span style="font-size: 10pt">Whether you are a part of a small firm or a Fortune 500 company\, today&rsquo\;s workplace requires managing\, motivating and developing your employees&rsquo\; time management skills. Increasing and enhancing your current time management leadership ability is paramount to your organization&rsquo\;s success. </span><br />\n<span style="font-size: 10pt">In this module managers will be able to: </span><br />\n<span style="font-size: 10pt">&bull\; Model time-wise leadership. </span><br />\n<span style="font-size: 10pt">&bull\; Manage leadership time. </span><br />\n<span style="font-size: 10pt">&bull\; Use timesaving communication tips. </span><br />\n<span style="font-size: 10pt"><span style="font-family: calibri\, sans-serif">&bull\; Enhance time management leadership skills.</span></span><br />\n
LOCATION:MetroNorth Chamber Office
UID:e.380.150028
SEQUENCE:3
DTSTAMP:20260424T062001Z
URL:http://members.metronorthchamber.org/events/details/leveraging-time-lunch-learn-by-emerald-bay-performance-03-19-2014-150028
END:VEVENT

END:VCALENDAR
